BEGIN:VCALENDAR
VERSION:2.0
PRODID:-//Faculty Center - ECPv6.6.4.2//NONSGML v1.0//EN
CALSCALE:GREGORIAN
METHOD:PUBLISH
X-WR-CALNAME:Faculty Center
X-ORIGINAL-URL:https://faculty.utsa.edu
X-WR-CALDESC:Events for Faculty Center
REFRESH-INTERVAL;VALUE=DURATION:PT1H
X-Robots-Tag:noindex
X-PUBLISHED-TTL:PT1H
BEGIN:VTIMEZONE
TZID:America/Chicago
BEGIN:DAYLIGHT
TZOFFSETFROM:-0600
TZOFFSETTO:-0500
TZNAME:CDT
DTSTART:20170312T080000
END:DAYLIGHT
BEGIN:STANDARD
TZOFFSETFROM:-0500
TZOFFSETTO:-0600
TZNAME:CST
DTSTART:20171105T070000
END:STANDARD
END:VTIMEZONE
BEGIN:VEVENT
DTSTART;TZID=America/Chicago:20170123T150000
DTEND;TZID=America/Chicago:20170123T160000
DTSTAMP:20260424T025743
CREATED:20170118T183101Z
LAST-MODIFIED:20170119T180409Z
UID:1188-1485183600-1485187200@faculty.utsa.edu
SUMMARY:Assigning Group Work (That Works)
DESCRIPTION:Group projects teach important skills that are highly sought by employers\, but they are often accompanied with fears and frustration.  This session will explore how to avoid pitfalls and create effective group assignments. \nRegister for this eventView the Event FlyerPresented By:Mary DixsonAssociate Vice Provost\, Teaching and Learning ServicesMary Dixson currently serves as Associate Vice Provost for Teaching and Learning Services and teaches courses for the Department of Communication at UTSA. Dixson earned a Ph.D. in Communication Studies from the University of Texas\, Austin. She has 20 years of experience teaching practical skills and theory in small group communication\, organizational communication\, interpersonal communication\, and public speaking.
URL:https://faculty.utsa.edu/events/assigning-group-work-that-works/
LOCATION:Faculty Center Small Conference Room\, JPL 4.04.12D\, Main Campus
ORGANIZER;CN="Mary Dixson":MAILTO:mary.dixson@utsa.edu
END:VEVENT
BEGIN:VEVENT
DTSTART;TZID=America/Chicago:20170123T190000
DTEND;TZID=America/Chicago:20170123T190000
DTSTAMP:20260424T025743
CREATED:20161222T213114Z
LAST-MODIFIED:20170120T174518Z
UID:18-1485198000-1485198000@faculty.utsa.edu
SUMMARY:Don Hodges Lecture Series with Guest Speaker David Huron
DESCRIPTION:The UTSA Music Department’s Institute of Music Research is proud to present Dr. David Huron speaking on the topic of physiological responses to music in a presentation entitled\, “On the Musically Sublime”. While most music listening is enjoyable\, sometimes the experience of listening to music evokes transcendent feelings: goosebumps\, tears to your eyes\, the feeling of being “choked up\,” or “taking your breath away.” This lecture describes a comprehensive theory that aims to account for such peculiar physiological responses. \nView more information Presented By:David HuronDr. David Huron is a Canadian Arts and Humanities Distinguished Professor at the Ohio State University\, in both the School of Music and the Center for Cognitive and Brain Sciences.
URL:https://faculty.utsa.edu/events/don-hodges-lecture-series-with-guest-speaker-david-huron/
ORGANIZER;CN="Susan Dill":MAILTO:susan.dill@utsa.edu
END:VEVENT
END:VCALENDAR