BEGIN:VCALENDAR
VERSION:2.0
PRODID:-//Faculty Center - ECPv6.6.4.2//NONSGML v1.0//EN
CALSCALE:GREGORIAN
METHOD:PUBLISH
X-WR-CALNAME:Faculty Center
X-ORIGINAL-URL:https://faculty.utsa.edu
X-WR-CALDESC:Events for Faculty Center
REFRESH-INTERVAL;VALUE=DURATION:PT1H
X-Robots-Tag:noindex
X-PUBLISHED-TTL:PT1H
BEGIN:VTIMEZONE
TZID:America/Chicago
BEGIN:DAYLIGHT
TZOFFSETFROM:-0600
TZOFFSETTO:-0500
TZNAME:CDT
DTSTART:20170312T080000
END:DAYLIGHT
BEGIN:STANDARD
TZOFFSETFROM:-0500
TZOFFSETTO:-0600
TZNAME:CST
DTSTART:20171105T070000
END:STANDARD
END:VTIMEZONE
BEGIN:VEVENT
DTSTART;TZID=America/Chicago:20170124T150000
DTEND;TZID=America/Chicago:20170124T170000
DTSTAMP:20260420T021059
CREATED:20170118T184424Z
LAST-MODIFIED:20170118T193422Z
UID:1208-1485270000-1485277200@faculty.utsa.edu
SUMMARY:Assigning Group Work (That Works) - Downtown Session
DESCRIPTION:Group projects teach important skills that are highly sought by employers\, but they are often accompanied with fears and frustration.  This session will explore how to avoid pitfalls and create effective group assignments. \n  \nRegister for this eventPresented by:Mary DixsonAssociate Vice Provost\, Teaching and Learning ServicesMary Dixson currently serves as Associate Vice Provost for Teaching and Learning Services and teaches courses for the Department of Communication at UTSA. Dixson earned a Ph.D. in Communication Studies from the University of Texas\, Austin. She has 20 years of experience teaching practical skills and theory in small group communication\, organizational communication\, interpersonal communication\, and public speaking.
URL:https://faculty.utsa.edu/events/assigning-group-work-that-works-downtown-session/
LOCATION:Executive Conference Room\, FS 4.450A\, Downtown
ORGANIZER;CN="Mary Dixson":MAILTO:mary.dixson@utsa.edu
END:VEVENT
END:VCALENDAR