BEGIN:VCALENDAR
VERSION:2.0
PRODID:-//Faculty Center - ECPv6.6.4.2//NONSGML v1.0//EN
CALSCALE:GREGORIAN
METHOD:PUBLISH
X-WR-CALNAME:Faculty Center
X-ORIGINAL-URL:https://faculty.utsa.edu
X-WR-CALDESC:Events for Faculty Center
REFRESH-INTERVAL;VALUE=DURATION:PT1H
X-Robots-Tag:noindex
X-PUBLISHED-TTL:PT1H
BEGIN:VTIMEZONE
TZID:America/Chicago
BEGIN:DAYLIGHT
TZOFFSETFROM:-0600
TZOFFSETTO:-0500
TZNAME:CDT
DTSTART:20170312T080000
END:DAYLIGHT
BEGIN:STANDARD
TZOFFSETFROM:-0500
TZOFFSETTO:-0600
TZNAME:CST
DTSTART:20171105T070000
END:STANDARD
END:VTIMEZONE
BEGIN:VEVENT
DTSTART;TZID=America/Chicago:20170127T110000
DTEND;TZID=America/Chicago:20170127T130000
DTSTAMP:20260424T025909
CREATED:20170123T155744Z
LAST-MODIFIED:20170123T160537Z
UID:1231-1485514800-1485522000@faculty.utsa.edu
SUMMARY:National Security Networking Luncheon
DESCRIPTION:UTSA Office of Research Support is hosting a National Security Networking Luncheon for faculty and San Antonio partners. Meet researchers and practitioners from academia\, industry and government who are working to address national security issues. Lunch will be provided. \n**Please note there is a limit of 50 guests for the luncheon. \nContact:  Daniel Arriaga\, 210-458-6302\, daniel.arriaga@utsa.edu \nKeywords: Research\, Collaborations\, Partnerships\, Multi-Disciplinary\, Policy\, Practice\, Cyber\, Infrastructure\, biological\, biochemical\, radiological\, digital\, nuclear\, threat\, training\, workforce development\, Department of Defense\, information assurance\, emergency response. \nREGISTER FOR THIS EVENTDOWNLOAD THE FLYER
URL:https://faculty.utsa.edu/events/natlsecuritynetworking/
ORGANIZER;CN="UTSA Research":MAILTO:research@utsa.edu
END:VEVENT
END:VCALENDAR