BEGIN:VCALENDAR
VERSION:2.0
PRODID:-//Faculty Center - ECPv6.6.4.2//NONSGML v1.0//EN
CALSCALE:GREGORIAN
METHOD:PUBLISH
X-WR-CALNAME:Faculty Center
X-ORIGINAL-URL:https://faculty.utsa.edu
X-WR-CALDESC:Events for Faculty Center
REFRESH-INTERVAL;VALUE=DURATION:PT1H
X-Robots-Tag:noindex
X-PUBLISHED-TTL:PT1H
BEGIN:VTIMEZONE
TZID:America/Chicago
BEGIN:DAYLIGHT
TZOFFSETFROM:-0600
TZOFFSETTO:-0500
TZNAME:CDT
DTSTART:20230312T080000
END:DAYLIGHT
BEGIN:STANDARD
TZOFFSETFROM:-0500
TZOFFSETTO:-0600
TZNAME:CST
DTSTART:20231105T070000
END:STANDARD
END:VTIMEZONE
BEGIN:VEVENT
DTSTART;TZID=America/Chicago:20230407T100000
DTEND;TZID=America/Chicago:20230407T120000
DTSTAMP:20260420T190348
CREATED:20230322T162330Z
LAST-MODIFIED:20230322T162330Z
UID:7333-1680861600-1680868800@faculty.utsa.edu
SUMMARY:Canvas Support Hours
DESCRIPTION:Join us at the Academic Innovation Center (MS 240\, in the Student Success District across from the Tomás Rivera Center for Academic Excellence) to work with one of our experts to answer any questions and help prepare your course(s) for the move to Canvas Fall 2023. \nCreating an inclusive learning environment is important to us. To request an accommodation\, please email DigitalAccessibility@utsa.edu one week prior to your scheduled training.
URL:https://faculty.utsa.edu/events/canvas-support-hours-3/
LOCATION:MS 240
CATEGORIES:Academic Innovation
END:VEVENT
BEGIN:VEVENT
DTSTART;TZID=America/Chicago:20230407T140000
DTEND;TZID=America/Chicago:20230407T160000
DTSTAMP:20260420T190348
CREATED:20230322T162426Z
LAST-MODIFIED:20230322T162426Z
UID:7335-1680876000-1680883200@faculty.utsa.edu
SUMMARY:Canvas Support Hours
DESCRIPTION:Join us at the Academic Innovation Center (MS 240\, in the Student Success District across from the Tomás Rivera Center for Academic Excellence) to work with one of our experts to answer any questions and help prepare your course(s) for the move to Canvas Fall 2023. \nCreating an inclusive learning environment is important to us. To request an accommodation\, please email DigitalAccessibility@utsa.edu one week prior to your scheduled training.
URL:https://faculty.utsa.edu/events/canvas-support-hours-4/
LOCATION:MS 240
CATEGORIES:Academic Innovation
END:VEVENT
END:VCALENDAR