BEGIN:VCALENDAR
VERSION:2.0
PRODID:-//Faculty Center - ECPv6.6.4.2//NONSGML v1.0//EN
CALSCALE:GREGORIAN
METHOD:PUBLISH
X-WR-CALNAME:Faculty Center
X-ORIGINAL-URL:https://faculty.utsa.edu
X-WR-CALDESC:Events for Faculty Center
REFRESH-INTERVAL;VALUE=DURATION:PT1H
X-Robots-Tag:noindex
X-PUBLISHED-TTL:PT1H
BEGIN:VTIMEZONE
TZID:America/Chicago
BEGIN:DAYLIGHT
TZOFFSETFROM:-0600
TZOFFSETTO:-0500
TZNAME:CDT
DTSTART:20230312T080000
END:DAYLIGHT
BEGIN:STANDARD
TZOFFSETFROM:-0500
TZOFFSETTO:-0600
TZNAME:CST
DTSTART:20231105T070000
END:STANDARD
END:VTIMEZONE
BEGIN:VEVENT
DTSTART;TZID=America/Chicago:20230504T110000
DTEND;TZID=America/Chicago:20230504T120000
DTSTAMP:20260423T050904
CREATED:20230322T180549Z
LAST-MODIFIED:20230427T210636Z
UID:7410-1683198000-1683201600@faculty.utsa.edu
SUMMARY:Canvas Support Hours
DESCRIPTION:Join us at the Academic Innovation Center (MS 240\, in the Student Success District across from the Tomás Rivera Center for Academic Excellence) to work with one of our experts to answer any questions and help prepare your course(s) for the move to Canvas Fall 2023. \nCreating an inclusive learning environment is important to us. To request an accommodation\, please email DigitalAccessibility@utsa.edu one week prior to your scheduled training.
URL:https://faculty.utsa.edu/events/canvas-support-hours-36/
LOCATION:MS 240
CATEGORIES:Academic Innovation
END:VEVENT
BEGIN:VEVENT
DTSTART;TZID=America/Chicago:20230504T130000
DTEND;TZID=America/Chicago:20230504T140000
DTSTAMP:20260423T050904
CREATED:20230322T180630Z
LAST-MODIFIED:20230427T210806Z
UID:7412-1683205200-1683208800@faculty.utsa.edu
SUMMARY:Canvas Support Hours
DESCRIPTION:Join us at the Academic Innovation Center (MS 240\, in the Student Success District across from the Tomás Rivera Center for Academic Excellence) to work with one of our experts to answer any questions and help prepare your course(s) for the move to Canvas Fall 2023. \nCreating an inclusive learning environment is important to us. To request an accommodation\, please email DigitalAccessibility@utsa.edu one week prior to your scheduled training.
URL:https://faculty.utsa.edu/events/canvas-support-hours-37/
LOCATION:MS 240
CATEGORIES:Academic Innovation
END:VEVENT
BEGIN:VEVENT
DTSTART;TZID=America/Chicago:20230504T140000
DTEND;TZID=America/Chicago:20230504T150000
DTSTAMP:20260423T050904
CREATED:20230414T182738Z
LAST-MODIFIED:20230414T183118Z
UID:7664-1683208800-1683212400@faculty.utsa.edu
SUMMARY:Canvas+ Assignments
DESCRIPTION:Are you looking for ways to enhance your students’ learning experience and help them achieve their course objectives? Canvas has great options for you! Join us to see how to develop assignments that cater to a wide range of learning styles and align with the principles of Universal Design for Learning. \nWith Canvas\, students can submit a variety of file types\, including videos\, photos\, and documents\, making it easier for them to engage with course content. So why not join us and learn how to create assignments that support your students’ learning but also streamline your grading process? We look forward to seeing you there and working together to create meaningful learning experiences for your students. \n***To fully engage in this workshop and its activities\, we suggest that you bring a device such as a laptop or tablet.*** \nBy attending this course\, participants will be able to:\n• Describe the available options for submissions when creating a Canvas assignment.\n• Explain the reasons why an instructor might choose various assignment settings and options\, including moderated and anonymous grading\, assignment availability options\, and peer review.\n• Create an assignment in Canvas with the desired submission types\, settings\, and course grade weight. \nCreating an inclusive learning environment is important to us. To request an accommodation\, please email DigitalAccessibility@utsa.edu one week prior to your scheduled training. \nLog In and Enroll
URL:https://faculty.utsa.edu/events/canvas-assignments-3/
LOCATION:MS 240 and Online
CATEGORIES:Academic Innovation
END:VEVENT
END:VCALENDAR