BEGIN:VCALENDAR
VERSION:2.0
PRODID:-//Faculty Center - ECPv6.6.4.2//NONSGML v1.0//EN
CALSCALE:GREGORIAN
METHOD:PUBLISH
X-WR-CALNAME:Faculty Center
X-ORIGINAL-URL:https://faculty.utsa.edu
X-WR-CALDESC:Events for Faculty Center
REFRESH-INTERVAL;VALUE=DURATION:PT1H
X-Robots-Tag:noindex
X-PUBLISHED-TTL:PT1H
BEGIN:VTIMEZONE
TZID:America/Chicago
BEGIN:DAYLIGHT
TZOFFSETFROM:-0600
TZOFFSETTO:-0500
TZNAME:CDT
DTSTART:20240310T080000
END:DAYLIGHT
BEGIN:STANDARD
TZOFFSETFROM:-0500
TZOFFSETTO:-0600
TZNAME:CST
DTSTART:20241103T070000
END:STANDARD
END:VTIMEZONE
BEGIN:VEVENT
DTSTART;TZID=America/Chicago:20240716T100000
DTEND;TZID=America/Chicago:20240716T110000
DTSTAMP:20260421T011638
CREATED:20240315T211147Z
LAST-MODIFIED:20240404T175439Z
UID:9808-1721124000-1721127600@faculty.utsa.edu
SUMMARY:Getting Started with Simple Syllabus
DESCRIPTION:Simple Syllabus is a centralized\, template-driven platform that enables instructors to quickly personalize and publish interactive class syllabi—saving your entire campus time\, budget\, and frustration. This unique approach pulls together established institutional data such as policies\, learning objectives\, and course section content so faculty don’t have to. Simple Syllabus will be required for all undergraduate courses in Fall 2024. \nBy attending this course\, participants will be able to:\n• navigate the Simple Syllabus interface proficiently\, including accessing the dashboard\, exploring menu options\, and understanding the platform’s layout.\n• comprehend the customization features of Simple Syllabus\, allowing them to personalize syllabi to meet their specific course requirements.\n• gain the skills to create a basic syllabus using Simple Syllabus\, including adding essential course details\, resources\, and initial customization. \nCreating an effective learning environment for all is important to us. To request an accommodation\, please email DigitalAccessibility@utsa.edu one week prior to your scheduled training. \nLog in and enroll
URL:https://faculty.utsa.edu/events/getting-started-with-simple-syllabus-6/
LOCATION:MS 240 and Online
CATEGORIES:Academic Innovation
END:VEVENT
END:VCALENDAR