BEGIN:VCALENDAR
VERSION:2.0
PRODID:-//Faculty Center - ECPv6.6.4.2//NONSGML v1.0//EN
CALSCALE:GREGORIAN
METHOD:PUBLISH
X-WR-CALNAME:Faculty Center
X-ORIGINAL-URL:https://faculty.utsa.edu
X-WR-CALDESC:Events for Faculty Center
REFRESH-INTERVAL;VALUE=DURATION:PT1H
X-Robots-Tag:noindex
X-PUBLISHED-TTL:PT1H
BEGIN:VTIMEZONE
TZID:America/Chicago
BEGIN:DAYLIGHT
TZOFFSETFROM:-0600
TZOFFSETTO:-0500
TZNAME:CDT
DTSTART:20240310T080000
END:DAYLIGHT
BEGIN:STANDARD
TZOFFSETFROM:-0500
TZOFFSETTO:-0600
TZNAME:CST
DTSTART:20241103T070000
END:STANDARD
END:VTIMEZONE
BEGIN:VEVENT
DTSTART;TZID=America/Chicago:20241106T120000
DTEND;TZID=America/Chicago:20241106T130000
DTSTAMP:20260422T092420
CREATED:20240822T161908Z
LAST-MODIFIED:20240822T164416Z
UID:10212-1730894400-1730898000@faculty.utsa.edu
SUMMARY:Introduction to Research Impact Metrics and Author Profiles
DESCRIPTION:Join UTSA Librarians for this introductory workshop for early career faculty on how to build your online scholarly identity. \nAre you already on ResearchGate or Academia.edu? Do you really need an ORCID as well? Join us for this hands-on session for early career scholars on how to communicate the impact of your research online\, find collaborators\, and ensure correct attribution of your work. It is not just articles; you may showcase book chapters\, conference presentations\, posters\, patents\, datasets\, and even artistic performances! We will discuss how to set up author profiles as well as find existing and emerging metrics for measuring research impact\, including Impact Factor\, Altmetrics\, and beyond. \nRegister for the Zoom meeting below. \nRegister for this event
URL:https://faculty.utsa.edu/events/introduction-to-research-impact-metrics-and-author-profiles/
CATEGORIES:Faculty Success,Research,UTSA Libraries,UTSA Research
END:VEVENT
BEGIN:VEVENT
DTSTART;TZID=America/Chicago:20241106T120000
DTEND;TZID=America/Chicago:20241106T130000
DTSTAMP:20260422T092420
CREATED:20241021T160459Z
LAST-MODIFIED:20241021T160459Z
UID:10655-1730894400-1730898000@faculty.utsa.edu
SUMMARY:Adobe AI: Professional graphics and promotional images – Photoshop
DESCRIPTION:Join us to learn about Professional graphics and promotional images in Photoshop\, part of the Adobe lunch and learn series to introduce faculty to the basics of using generative AI with Adobe. \nIn this session you will get a basic overview of image editing with Photoshop and learn to: \n\nUse generative fill to expand images for courses and videos\nUse AI to create a professional headshot\nCombine AI with Photoshop\n\nCreating an effective learning environment for all is important to us. To request an accommodation\, please email DigitalAccessibility@utsa.edu one week prior to your scheduled training. \nLog In and Enroll
URL:https://faculty.utsa.edu/events/adobe-ai-professional-graphics-and-promotional-images-photoshop/
LOCATION:MS 240
CATEGORIES:Academic Innovation
END:VEVENT
END:VCALENDAR