BEGIN:VCALENDAR
VERSION:2.0
PRODID:-//Faculty Center - ECPv6.6.4.2//NONSGML v1.0//EN
CALSCALE:GREGORIAN
METHOD:PUBLISH
X-WR-CALNAME:Faculty Center
X-ORIGINAL-URL:https://faculty.utsa.edu
X-WR-CALDESC:Events for Faculty Center
REFRESH-INTERVAL;VALUE=DURATION:PT1H
X-Robots-Tag:noindex
X-PUBLISHED-TTL:PT1H
BEGIN:VTIMEZONE
TZID:America/Chicago
BEGIN:DAYLIGHT
TZOFFSETFROM:-0600
TZOFFSETTO:-0500
TZNAME:CDT
DTSTART:20240310T080000
END:DAYLIGHT
BEGIN:STANDARD
TZOFFSETFROM:-0500
TZOFFSETTO:-0600
TZNAME:CST
DTSTART:20241103T070000
END:STANDARD
END:VTIMEZONE
BEGIN:VEVENT
DTSTART;TZID=America/Chicago:20241122T100000
DTEND;TZID=America/Chicago:20241122T113000
DTSTAMP:20260422T092528
CREATED:20241111T151245Z
LAST-MODIFIED:20241118T190820Z
UID:10711-1732269600-1732275000@faculty.utsa.edu
SUMMARY:Intro to Cayuse
DESCRIPTION:This course is designed to instruct new users how to navigate through Cayuse and submit a study for approval by the UTSA Institutional Review Board. Participants will learn what qualifies as human subjects research according to federal regulations and tips for successful submission. Participants are encouraged to access Cayuse during the course and navigate through the site along with the instructors. \nPresented By: Shannon Marquess\, Senior Research Compliance Coordinator\, Research Integrity & Tammy Lopez\, Senior Research Compliance Coordinator\, Research IntegrityFlyer_ Intro to Cayuse \nView the Event FlyerRegister for this eventView more information
URL:https://faculty.utsa.edu/events/intro-to-cayuse/
LOCATION:Virtual: TEAMS
CATEGORIES:Research,UTSA Research
END:VEVENT
END:VCALENDAR