BEGIN:VCALENDAR
VERSION:2.0
PRODID:-//Faculty Center - ECPv6.6.4.2//NONSGML v1.0//EN
CALSCALE:GREGORIAN
METHOD:PUBLISH
X-WR-CALNAME:Faculty Center
X-ORIGINAL-URL:https://faculty.utsa.edu
X-WR-CALDESC:Events for Faculty Center
REFRESH-INTERVAL;VALUE=DURATION:PT1H
X-Robots-Tag:noindex
X-PUBLISHED-TTL:PT1H
BEGIN:VTIMEZONE
TZID:America/Chicago
BEGIN:DAYLIGHT
TZOFFSETFROM:-0600
TZOFFSETTO:-0500
TZNAME:CDT
DTSTART:20240310T080000
END:DAYLIGHT
BEGIN:STANDARD
TZOFFSETFROM:-0500
TZOFFSETTO:-0600
TZNAME:CST
DTSTART:20241103T070000
END:STANDARD
END:VTIMEZONE
BEGIN:VEVENT
DTSTART;TZID=America/Chicago:20241205T100000
DTEND;TZID=America/Chicago:20241205T113000
DTSTAMP:20260419T120014
CREATED:20241107T162608Z
LAST-MODIFIED:20241118T192057Z
UID:10702-1733392800-1733398200@faculty.utsa.edu
SUMMARY:Texas Research Data Center Consortium
DESCRIPTION:Federal Statistical Research Data Centers (FSRDCs) representatives will discuss the resources available to faculty and postdocs. UTSA is a member of the Texas Research Data Center(RDC) Consortium through which researchers may access the secure computing lab at Texas A&M University\, College Station. \nQualified researchers with approved projects perform statistical analyses using restricted access data sets. Projects are hosted on the national RDC network\, which is maintained by the U.S. Census Bureau. For a description on of FSRDCs\, see: https://www.census.gov/about/adrm/fsrdc.html \nThe FSRDCs offer access to restricted data from the U.S. Census Bureau and other partnering agencies\, such as the Agency for Healthcare Research and Quality\, Bureau of Economic Analysis\, Bureau of Labor Statistics\, National Center for Health Statistics\, and National Center for Science and Engineering Statistics. For more information about the datasets\, go to: https://liberalarts.tamu.edu/txrdc/datasets/ \nFor TXRDC funding opportunities\, see: https://liberalarts.tamu.edu/txrdc/funding-opportunities/ \nIn addition to the webinar\, one-on-one meetings also can be arranged with Drs. Mary Campbell and Karin Johnson. \nPresented By: Karin Johnson\, Administrator\, Texas Federal Statistical Research Data Center & Mary Campbell\, Director\, Texas Federal Statistical Research Data CenterFlyer_Texas Research Data Center Consortium \nView the Event FlyerRegister for this eventView more information
URL:https://faculty.utsa.edu/events/texas-research-data-center-consortium-3/
LOCATION:Virtual: Zoom
CATEGORIES:Research,UTSA Research
END:VEVENT
BEGIN:VEVENT
DTSTART;TZID=America/Chicago:20241205T120000
DTEND;TZID=America/Chicago:20241205T124500
DTSTAMP:20260419T120014
CREATED:20240911T155852Z
LAST-MODIFIED:20241126T155727Z
UID:10437-1733400000-1733402700@faculty.utsa.edu
SUMMARY:NSF CAREER Information Session
DESCRIPTION:The National Science Foundation CAREER program offers NSF’s most prestigious awards in support of early-career faculty who have the potential to serve as academic role models in research and education and to lead advances in the mission of their department or organization. Activities pursued by early-career faculty should build a firm foundation for a lifetime of leadership in integrating education and research.   \n   \nAt UTSA\, the NSF CAREER program is part of the Targeted Scholarly Awards initiative\, with the Office of Faculty Research Development leading proposal development support for all CAREER PIs. We are excited to invite you to an upcoming brief information session about the NSF CAREER program\, where we will review valuable resources and provide guidance to support your proposal development at UTSA. Whether you’re new to the program or looking for insights to strengthen your submission\, this short informational session is designed to help you navigate the process successfully.  \nPresented By: Marissa Mexquitic\, Research Program Coordinator\, Faculty Research Development Register for this eventView more information
URL:https://faculty.utsa.edu/events/nsf-career-information-session-3/
LOCATION:Virtual: Zoom
CATEGORIES:Research,UTSA Research
END:VEVENT
BEGIN:VEVENT
DTSTART;TZID=America/Chicago:20241205T120000
DTEND;TZID=America/Chicago:20241205T130000
DTSTAMP:20260419T120014
CREATED:20241121T190045Z
LAST-MODIFIED:20241205T213937Z
UID:10749-1733400000-1733403600@faculty.utsa.edu
SUMMARY:Adobe AI: AI for Editing Course Videos- Premier Pro and AfterEffects
DESCRIPTION:This lunch and learn series will introduce faculty to the basics of using generative AI to create with Adobe. Each hour-long session will cover a specific tool. \nBy attending this course\, participants will be able to: \n\nLearn the basics of video editing in Premiere Pro\nUse AI to edit with text in Premiere Pro\nUse AI for motion graphics in AfterEffects\nCombine AfterEffects and Premiere Pro\n\nCreating an effective learning environment for all is important to us. To request an accommodation\, please email DigitalAccessibility@utsa.edu one week prior to your scheduled training. \nClick here to view event recording. \nLog In and Enroll
URL:https://faculty.utsa.edu/events/adobe-ai-ai-for-editing-course-videos-premier-pro-and-aftereffects/
LOCATION:ONLINE WEBINAR
CATEGORIES:Academic Innovation
END:VEVENT
BEGIN:VEVENT
DTSTART;TZID=America/Chicago:20241205T130000
DTEND;TZID=America/Chicago:20241205T141500
DTSTAMP:20260419T120014
CREATED:20240905T201553Z
LAST-MODIFIED:20250324T162959Z
UID:10423-1733403600-1733408100@faculty.utsa.edu
SUMMARY:Generative AI Across the UT System: A UT System Mini-Conference Series
DESCRIPTION:We invite faculty\, staff\, postdoctoral researchers\, and graduate students across the UT System to join our monthly webinar series\, AI Across the UT System. This series will explore how each campus is integrating generative artificial intelligence into teaching and learning. Each session will be organized by the respective Center for Teaching and Learning\, or its equivalent\, on participating campuses\, providing a platform for sharing insights\, strategies\, and innovations. \nCreating an effective learning environment for all is important to us. To request an accommodation\, please email DigitalAccessibility@utsa.edu one week prior to your scheduled training. \nMissed a session? Catch up on all Generative AI Across the UT System mini-series conference sessions anytime with our on-demand recordings. \nLog In and Enroll
URL:https://faculty.utsa.edu/events/generative-ai-across-the-ut-system-ut-system-mini-conference-series-7/
LOCATION:ONLINE WEBINAR
CATEGORIES:Academic Innovation
END:VEVENT
BEGIN:VEVENT
DTSTART;TZID=America/Chicago:20241205T140000
DTEND;TZID=America/Chicago:20241205T150000
DTSTAMP:20260419T120014
CREATED:20240926T200845Z
LAST-MODIFIED:20241205T214219Z
UID:10513-1733407200-1733410800@faculty.utsa.edu
SUMMARY:Domain-Specific Alt Text: Precision and AI Tools for Success
DESCRIPTION:In this focused session\, you’ll learn how to craft precise alt text that caters to specialized fields (STEM\, Art\, History\, etc.)\, ensuring your images are accessible to all audiences. We’ll explore best practices and equip you with the skills to critique and improve alt text for accuracy and clarity. Perfect for anyone looking to enhance their expertise in creating accessible content in their specific content areas! \nCreating an effective learning environment for all is important to us. To request an accommodation\, please email DigitalAccessibility@utsa.edu one week prior to your scheduled training. \nClick here to view event recording. \nLog in and Enroll
URL:https://faculty.utsa.edu/events/domain-specific-alt-text-precision-and-ai-tools-for-success/
LOCATION:ONLINE WEBINAR
CATEGORIES:Academic Innovation
END:VEVENT
BEGIN:VEVENT
DTSTART;TZID=America/Chicago:20241205T160000
DTEND;TZID=America/Chicago:20241205T170000
DTSTAMP:20260419T120014
CREATED:20241015T150421Z
LAST-MODIFIED:20241015T150421Z
UID:10638-1733414400-1733418000@faculty.utsa.edu
SUMMARY:IoT RIG Meeting
DESCRIPTION:Fall 2024 monthly meeting of the UTSA IoT RIG\nView more information
URL:https://faculty.utsa.edu/events/iot-rig-meeting-6/
LOCATION:Virtual: TEAMS
CATEGORIES:Research,UTSA Research
END:VEVENT
END:VCALENDAR