BEGIN:VCALENDAR
VERSION:2.0
PRODID:-//Faculty Center - ECPv6.6.4.2//NONSGML v1.0//EN
CALSCALE:GREGORIAN
METHOD:PUBLISH
X-ORIGINAL-URL:https://faculty.utsa.edu
X-WR-CALDESC:Events for Faculty Center
REFRESH-INTERVAL;VALUE=DURATION:PT1H
X-Robots-Tag:noindex
X-PUBLISHED-TTL:PT1H
BEGIN:VTIMEZONE
TZID:America/Chicago
BEGIN:DAYLIGHT
TZOFFSETFROM:-0600
TZOFFSETTO:-0500
TZNAME:CDT
DTSTART:20250309T080000
END:DAYLIGHT
BEGIN:STANDARD
TZOFFSETFROM:-0500
TZOFFSETTO:-0600
TZNAME:CST
DTSTART:20251102T070000
END:STANDARD
END:VTIMEZONE
BEGIN:VEVENT
DTSTART;VALUE=DATE:20250908
DTEND;VALUE=DATE:20250922
DTSTAMP:20260423T021357
CREATED:20250821T193134Z
LAST-MODIFIED:20250821T193134Z
UID:11592-1757289600-1758499199@faculty.utsa.edu
SUMMARY:14-Day Writing Challenge
DESCRIPTION:Presented By: ncfddThe 14-Day Challenge is an opportunity for you to experiment with daily writing\, online community\, and supportive accountability. It’s very simple: \nYou commit to write every day for at least 30 minutes. At the beginning of your writing time\, you login to our online community\, start the timer\, complete your writing\, and post your progress at the end. You take 5 minutes to support other writers in your group by commenting on their progress. This is NOT for you if: \n\nYou don’t want to post your progress on a daily basis and/or\nYou don’t want to interact with other people.\n\nIf you’re up for the challenge\, then we can’t wait for you to join us! \nRegister for this eventView more information
URL:https://faculty.utsa.edu/events/14-day-writing-challenge/
CATEGORIES:Research,UTSA Research
ORGANIZER;CN="Faculty Research Development":MAILTO:siobhan.fleming@utsa.edu
END:VEVENT
BEGIN:VEVENT
DTSTART;TZID=America/Chicago:20250908T140000
DTEND;TZID=America/Chicago:20250908T150000
DTSTAMP:20260423T021357
CREATED:20250902T144523Z
LAST-MODIFIED:20250911T192705Z
UID:11686-1757340000-1757343600@faculty.utsa.edu
SUMMARY:HCAP Pedagogical Engagement Academy | ADA Title II & Digital Accessibility: Getting Started & Next Steps
DESCRIPTION:***Please note this session is specifically for HCAP Faculty.*** \nThis session will break down what’s changing\, what’s required\, and how it impacts the digital materials you share with students. We’ll also highlight practical steps to get started with accessibility and share the key supports and resources available to help you succeed. \nCreating an effective learning environment for all is important to us. To request an accommodation\, please email DigitalAccessibility@utsa.edu one week prior to your scheduled training. \nClick here to view event recording. \nLog In and Enroll
URL:https://faculty.utsa.edu/events/hcap-pedagogical-engagement-academy-ada-title-ii-digital-accessibility-getting-started-next-steps/
LOCATION:ONLINE WEBINAR
CATEGORIES:Academic Innovation
END:VEVENT
BEGIN:VEVENT
DTSTART;TZID=America/Chicago:20250908T150000
DTEND;TZID=America/Chicago:20250908T160000
DTSTAMP:20260423T021357
CREATED:20250716T134357Z
LAST-MODIFIED:20250716T150841Z
UID:11308-1757343600-1757347200@faculty.utsa.edu
SUMMARY:Adobe Peer Network
DESCRIPTION:Ready to ignite creativity in your classroom? Join the Adobe Peer Network\, a dynamic community where faculty like you come together to explore innovative ways to integrate digital literacy and creativity into teaching. \nIn these online sessions\, you will: \n\nEngage with other faculty interested in the topic.\nLearn the newest tips\, trends and tools related to the topic.\nShare successes and concerns with other faculty interested in the topic.\n\nCreating an effective learning environment for all is important to us. To request an accommodation\, please email DigitalAccessibility@utsa.edu one week prior to your scheduled training. \nLog In to Zoom and Enroll
URL:https://faculty.utsa.edu/events/adobe-peer-network/
LOCATION:online
CATEGORIES:Academic Innovation
END:VEVENT
BEGIN:VEVENT
DTSTART;TZID=America/Chicago:20250908T180000
DTEND;TZID=America/Chicago:20250908T193000
DTSTAMP:20260423T021357
CREATED:20250829T010907Z
LAST-MODIFIED:20250902T141817Z
UID:11651-1757354400-1757359800@faculty.utsa.edu
SUMMARY:Global AI Community of Practice: Industry Readiness with AI
DESCRIPTION:Ready to prepare your students for the future of AI? Join us for the second Global AI Community of Practice (CoP)\, a collaboration between Swinburne University of Technology (Melbourne\, Australia) and the University of Texas at San Antonio (Texas\, USA). This year’s event\, “Industry Readiness with AI\,” is your chance to connect with leading experts and learn from your own colleagues\, including Professor of Music Drew Stephen and Associate Professor of Statistics and Data Science David Han\, about how generative AI is transforming their teaching. \nLast year’s inaugural CoP highlighted how generative AI can be a powerful support tool for creativity\, while emphasizing the critical role of ethical use and global collaboration. The insights from the resulting white paper\, Gen-AI Global CoP: Innovative Use Cases for Artificial Intelligence in Higher Education\, laid the groundwork for how we can responsibly integrate AI into our teaching to build stronger skills. \nThis year\, we’re building on that foundation to offer you practical knowledge and best practices. By attending\, you can help ensure UT San Antonio remains a leader in preparing students for an AI-driven world. \nStudents and educators from both institutions are welcome! \nCreating an effective learning environment for all is important to us. To request an accommodation\, please email DigitalAccessibility@utsa.edu one week prior to your scheduled training. \nRegister Today!
URL:https://faculty.utsa.edu/events/global-ai-community-of-practice-industry-readiness-with-ai/
LOCATION:ONLINE WEBINAR
CATEGORIES:Academic Innovation
END:VEVENT
END:VCALENDAR