BEGIN:VCALENDAR
VERSION:2.0
PRODID:-//Faculty Center - ECPv6.6.4.2//NONSGML v1.0//EN
CALSCALE:GREGORIAN
METHOD:PUBLISH
X-ORIGINAL-URL:https://faculty.utsa.edu
X-WR-CALDESC:Events for Faculty Center
REFRESH-INTERVAL;VALUE=DURATION:PT1H
X-Robots-Tag:noindex
X-PUBLISHED-TTL:PT1H
BEGIN:VTIMEZONE
TZID:America/Chicago
BEGIN:DAYLIGHT
TZOFFSETFROM:-0600
TZOFFSETTO:-0500
TZNAME:CDT
DTSTART:20250309T080000
END:DAYLIGHT
BEGIN:STANDARD
TZOFFSETFROM:-0500
TZOFFSETTO:-0600
TZNAME:CST
DTSTART:20251102T070000
END:STANDARD
END:VTIMEZONE
BEGIN:VEVENT
DTSTART;TZID=America/Chicago:20250929T150000
DTEND;TZID=America/Chicago:20250929T160000
DTSTAMP:20260423T021247
CREATED:20250912T174625Z
LAST-MODIFIED:20250912T174625Z
UID:11838-1759158000-1759161600@faculty.utsa.edu
SUMMARY:STEPS RIG Kick Off Meeting
DESCRIPTION:Kick off the monthly meetings of the STEPS RIG for Fall 2025.\nIf you would like information on joining existing RIGs\, please contact Dr. Siobhan Fleming\, Sr. Director for Faculty Development\, Siobhan.Fleming@utsa.edu\, in the office of Research. \nView more information
URL:https://faculty.utsa.edu/events/steps-rig-kick-off-meeting-2/
LOCATION:Virtual: TEAMS
CATEGORIES:Research,UTSA Research
ORGANIZER;CN="Faculty Research Development":MAILTO:siobhan.fleming@utsa.edu
END:VEVENT
END:VCALENDAR