BEGIN:VCALENDAR
VERSION:2.0
PRODID:-//Faculty Center - ECPv6.6.4.2//NONSGML v1.0//EN
CALSCALE:GREGORIAN
METHOD:PUBLISH
X-ORIGINAL-URL:https://faculty.utsa.edu
X-WR-CALDESC:Events for Faculty Center
REFRESH-INTERVAL;VALUE=DURATION:PT1H
X-Robots-Tag:noindex
X-PUBLISHED-TTL:PT1H
BEGIN:VTIMEZONE
TZID:America/Chicago
BEGIN:DAYLIGHT
TZOFFSETFROM:-0600
TZOFFSETTO:-0500
TZNAME:CDT
DTSTART:20210314T080000
END:DAYLIGHT
BEGIN:STANDARD
TZOFFSETFROM:-0500
TZOFFSETTO:-0600
TZNAME:CST
DTSTART:20211107T070000
END:STANDARD
END:VTIMEZONE
BEGIN:VEVENT
DTSTART;TZID=America/Chicago:20211004T100000
DTEND;TZID=America/Chicago:20211004T110000
DTSTAMP:20260421T021033
CREATED:20210930T145227Z
LAST-MODIFIED:20211001T153747Z
UID:5875-1633341600-1633345200@faculty.utsa.edu
SUMMARY:Academic Innovation: Midterm Office Hours
DESCRIPTION:Academic Innovation will be providing office hours for faculty to help with midterm grades. \nFor any additional information\, please contact Academic Innovation! \nClick to join this event
URL:https://faculty.utsa.edu/events/academic-innovation-midterm-office-hours/
CATEGORIES:Academic Innovation
END:VEVENT
BEGIN:VEVENT
DTSTART;TZID=America/Chicago:20211005T150000
DTEND;TZID=America/Chicago:20211005T160000
DTSTAMP:20260421T021033
CREATED:20210930T145227Z
LAST-MODIFIED:20220221T153752Z
UID:5877-1633446000-1633449600@faculty.utsa.edu
SUMMARY:Academic Innovation: Midterm Office Hours
DESCRIPTION:Academic Innovation will be providing office hours for faculty to help with midterm grades. \nFor any additional information\, please contact Academic Innovation! \nClick to join this event
URL:https://faculty.utsa.edu/events/academic-innovation-midterm-office-hours-2021-10-05/
CATEGORIES:Academic Innovation
END:VEVENT
END:VCALENDAR