BEGIN:VCALENDAR
VERSION:2.0
PRODID:-//Faculty Center - ECPv6.6.4.2//NONSGML v1.0//EN
CALSCALE:GREGORIAN
METHOD:PUBLISH
X-WR-CALNAME:Faculty Center
X-ORIGINAL-URL:https://faculty.utsa.edu
X-WR-CALDESC:Events for Faculty Center
REFRESH-INTERVAL;VALUE=DURATION:PT1H
X-Robots-Tag:noindex
X-PUBLISHED-TTL:PT1H
BEGIN:VTIMEZONE
TZID:America/Chicago
BEGIN:DAYLIGHT
TZOFFSETFROM:-0600
TZOFFSETTO:-0500
TZNAME:CDT
DTSTART:20250309T080000
END:DAYLIGHT
BEGIN:STANDARD
TZOFFSETFROM:-0500
TZOFFSETTO:-0600
TZNAME:CST
DTSTART:20251102T070000
END:STANDARD
END:VTIMEZONE
BEGIN:VEVENT
DTSTART;TZID=America/Chicago:20250430T120000
DTEND;TZID=America/Chicago:20250430T130000
DTSTAMP:20260420T143946
CREATED:20250117T161619Z
LAST-MODIFIED:20250506T204739Z
UID:10980-1746014400-1746018000@faculty.utsa.edu
SUMMARY:Adobe AI Lunch and Learn Series
DESCRIPTION:This Virtual lunch and learn series will introduce faculty to the basics of using generative AI to create with Adobe. Each hour-long session will cover a specific tool. \nAI for editing course videos – Premiere Pro and AfterEffects \n\nBasics of video editing in Premiere Pro\nUsing AI to edit with text in Premiere Pro\nUsing AI for motion graphics in AfterEffects\nCombining AfterEffects and Premiere Pro.\n\nCreating an effective learning environment for all is important to us. To request an accommodation\, please email DigitalAccessibility@utsa.edu one week prior to your scheduled training. \nClick here to view event recording. \nLog In and Enroll
URL:https://faculty.utsa.edu/events/adobe-ai-lunch-and-learn-series-4/
LOCATION:online
CATEGORIES:Academic Innovation
END:VEVENT
BEGIN:VEVENT
DTSTART;TZID=America/Chicago:20250430T120000
DTEND;TZID=America/Chicago:20250430T130000
DTSTAMP:20260420T143946
CREATED:20250122T173806Z
LAST-MODIFIED:20250122T173806Z
UID:11017-1746014400-1746018000@faculty.utsa.edu
SUMMARY:Using Covidence for Systematic Review Screening
DESCRIPTION:Covidence is a systematic & scoping review tool used to streamline the process of screening and reviewing articles. Using this software\, research teams can easily import studies\, perform automatic deduplication\, and extract data using templates.  This workshop will show attendees how to start a review in Covidence\, add collaborators\, and get started on screening. \nRegister for this eventPresented By:Rachel DavisInformation Specialist for Open Science• Subject liaison in life and health sciences providing support to UTSA faculty\, students and staff; available for research consultations and instruction in these areas.\n• Expertise in advanced literature searching of biomedical databases\, systematic review strategies\, research data management plans\, and EndNote.\n• Bachelor of Arts in English from the University of Tennessee\n• Master of Library and Information Science from Valdosta State University
URL:https://faculty.utsa.edu/events/using-covidence-for-systematic-review-screening/
CATEGORIES:Academic Innovation,Academy of Distinguished Teaching Scholars,Office of Digital Learning,Research,UTSA Academic Affairs,UTSA Knowledge Enterprise,UTSA Libraries,UTSA Office of Research Support,UTSA Research,UTSA Teaching and Learning Services
END:VEVENT
END:VCALENDAR