BEGIN:VCALENDAR
VERSION:2.0
PRODID:-//Faculty Center - ECPv6.6.4.2//NONSGML v1.0//EN
CALSCALE:GREGORIAN
METHOD:PUBLISH
X-WR-CALNAME:Faculty Center
X-ORIGINAL-URL:https://faculty.utsa.edu
X-WR-CALDESC:Events for Faculty Center
REFRESH-INTERVAL;VALUE=DURATION:PT1H
X-Robots-Tag:noindex
X-PUBLISHED-TTL:PT1H
BEGIN:VTIMEZONE
TZID:America/Chicago
BEGIN:DAYLIGHT
TZOFFSETFROM:-0600
TZOFFSETTO:-0500
TZNAME:CDT
DTSTART:20250309T080000
END:DAYLIGHT
BEGIN:STANDARD
TZOFFSETFROM:-0500
TZOFFSETTO:-0600
TZNAME:CST
DTSTART:20251102T070000
END:STANDARD
END:VTIMEZONE
BEGIN:VEVENT
DTSTART;TZID=America/Chicago:20250926T110000
DTEND;TZID=America/Chicago:20250926T120000
DTSTAMP:20260420T141643
CREATED:20250919T221450Z
LAST-MODIFIED:20250919T221450Z
UID:11873-1758884400-1758888000@faculty.utsa.edu
SUMMARY:The Faculty Playbook for Teaching: Award-Winning Strategies for a Better Classroom
DESCRIPTION:Thanks to our partnership with the UT System\, this engaging session from UT Arlington is available to you. Join us to get fresh teaching ideas from five of the most celebrated educators at UT Arlington\, who will share their most impactful\, practical teaching tips in five-minute “lightning talks.” \nWhether you’re looking for new ways to engage students\, streamline your workflow\, or just refresh your teaching style\, you’ll get a “playbook” of actionable strategies. \nDon’t miss the chance to connect with fellow educators across the UT System and be inspired by the best! \nCreating an effective learning environment for all is important to us. To request an accommodation\, please email DigitalAccessibility@utsa.edu one week prior to your scheduled training. \nRegister and Join
URL:https://faculty.utsa.edu/events/the-faculty-playbook-for-teaching-award-winning-strategies-for-a-better-classroom/
LOCATION:ONLINE WEBINAR
CATEGORIES:Academic Innovation
END:VEVENT
END:VCALENDAR