BEGIN:VCALENDAR
VERSION:2.0
PRODID:-//Faculty Center - ECPv6.6.4.2//NONSGML v1.0//EN
CALSCALE:GREGORIAN
METHOD:PUBLISH
X-WR-CALNAME:Faculty Center
X-ORIGINAL-URL:https://faculty.utsa.edu
X-WR-CALDESC:Events for Faculty Center
REFRESH-INTERVAL;VALUE=DURATION:PT1H
X-Robots-Tag:noindex
X-PUBLISHED-TTL:PT1H
BEGIN:VTIMEZONE
TZID:America/Chicago
BEGIN:DAYLIGHT
TZOFFSETFROM:-0600
TZOFFSETTO:-0500
TZNAME:CDT
DTSTART:20260308T080000
END:DAYLIGHT
BEGIN:STANDARD
TZOFFSETFROM:-0500
TZOFFSETTO:-0600
TZNAME:CST
DTSTART:20261101T070000
END:STANDARD
END:VTIMEZONE
BEGIN:VEVENT
DTSTART;TZID=America/Chicago:20260212T130000
DTEND;TZID=America/Chicago:20260212T141500
DTSTAMP:20260422T212905
CREATED:20250910T210041Z
LAST-MODIFIED:20260213T193159Z
UID:11797-1770901200-1770905700@faculty.utsa.edu
SUMMARY:Educating for Impact: Building World-Ready Students | UT System Webinar Series
DESCRIPTION:You’re invited to UT System’s monthly webinar series exploring how the core curriculum equips students with essential skills for an evolving world. Join us for faculty-led conversations that delve into innovative teaching practices in student partnership\, productive struggle in the age of AI\, and new ways of making learning visible and durable. Together\, these sessions affirm the power of higher education to future-proof our students while deepening the impact of teaching and learning. Each session will be organized by the respective Center for Teaching and Learning\, or its equivalent\, on participating campuses\, providing a platform for sharing insights\, strategies\, and innovations. \nMark your calendars! We have an exciting lineup of future sessions planned from 1:00 PM to 2:15 PM CT on the following dates. \n\n3/12: Productive Struggle: Presented by UT Arlington\n4/9: Comprehensive Learner Record for future proofing our Students: Presented by UT Austin\n\nLearn more about this series: Educating for Impact: Preparing World-Ready Students \nCreating an effective learning environment for all is important to us. To request an accommodation\, please email DigitalAccessibility@utsa.edu one week prior to your scheduled training. \nClick here to view event recording. \nLog in and Enroll
URL:https://faculty.utsa.edu/events/educating-for-impact-building-world-ready-students-ut-system-webinar-series-6/
LOCATION:ONLINE WEBINAR
CATEGORIES:Academic Innovation
END:VEVENT
END:VCALENDAR