BEGIN:VCALENDAR
VERSION:2.0
PRODID:-//Faculty Center - ECPv6.6.4.2//NONSGML v1.0//EN
CALSCALE:GREGORIAN
METHOD:PUBLISH
X-WR-CALNAME:Faculty Center
X-ORIGINAL-URL:https://faculty.utsa.edu
X-WR-CALDESC:Events for Faculty Center
REFRESH-INTERVAL;VALUE=DURATION:PT1H
X-Robots-Tag:noindex
X-PUBLISHED-TTL:PT1H
BEGIN:VTIMEZONE
TZID:America/Chicago
BEGIN:DAYLIGHT
TZOFFSETFROM:-0600
TZOFFSETTO:-0500
TZNAME:CDT
DTSTART:20260308T080000
END:DAYLIGHT
BEGIN:STANDARD
TZOFFSETFROM:-0500
TZOFFSETTO:-0600
TZNAME:CST
DTSTART:20261101T070000
END:STANDARD
END:VTIMEZONE
BEGIN:VEVENT
DTSTART;TZID=America/Chicago:20260217T120000
DTEND;TZID=America/Chicago:20260217T123000
DTSTAMP:20260423T012338
CREATED:20260123T182059Z
LAST-MODIFIED:20260123T182059Z
UID:12253-1771329600-1771331400@faculty.utsa.edu
SUMMARY:Publishing Discounts for UTSA Researchers
DESCRIPTION:Join UTSA Libraries and Museums to learn more about the publishing discounts available for UTSA researchers. Current agreements include Springer Nature\, Cambridge University Press\, Wiley\, and more. Bring your questions and feedback for the library as we continue to pursue partnerships with publishers to reduce costs for our researchers. \nRegister for this eventPresented By:Emily HaywardCoordinator\, Scholarly Communication & Research SupportProvides scholarly communication support to faculty\, students and staff at the Main and Downtown campuses. She is available for specialized research consultations and classes on topics such as management of copyright and intellectual property\, scholarly metrics\, author profiles\, publishing choices\, publishing agreements and compliance with funder mandates.
URL:https://faculty.utsa.edu/events/publishing-discounts-for-utsa-researchers-7/
CATEGORIES:Academic Innovation,College of Business,College of Education & Human Development,College of Engineering,College of Liberal and Fine Arts,College of Sciences,Computer Science,Department of English,Department of History,Faculty Success,Honors College,Political Science & Geograhy,Research,UTSA Academic Affairs,UTSA Libraries,UTSA Office of Research Support,UTSA Research
END:VEVENT
BEGIN:VEVENT
DTSTART;TZID=America/Chicago:20260217T120000
DTEND;TZID=America/Chicago:20260217T130000
DTSTAMP:20260423T012338
CREATED:20251008T192027Z
LAST-MODIFIED:20251008T192027Z
UID:11967-1771329600-1771333200@faculty.utsa.edu
SUMMARY:Student Engagement VR
DESCRIPTION:***Please note this session is specifically for COS Faculty.*** \nThis STEM-focused workshop introduces the potential of virtual reality (VR) to enhance student engagement and experiential learning in higher education. Participants will explore accessible VR tools\, platforms\, and hardware\, examine interdisciplinary case studies\, and learn how to reserve VR headsets through instructional technology services for classroom integration. \nCreating an effective learning environment for all is important to us. To request an accommodation\, please email DigitalAccessibility@utsa.edu one week prior to your scheduled training. \nLog In and Enroll
URL:https://faculty.utsa.edu/events/student-engagement-vr-2/
LOCATION:AET 0.202
CATEGORIES:Academic Innovation
END:VEVENT
BEGIN:VEVENT
DTSTART;TZID=America/Chicago:20260217T140000
DTEND;TZID=America/Chicago:20260217T153000
DTSTAMP:20260423T012338
CREATED:20260121T160823Z
LAST-MODIFIED:20260218T221337Z
UID:12247-1771336800-1771342200@faculty.utsa.edu
SUMMARY:Alt Text 101: Basics\, Decorative Images\, and How AI Can Help
DESCRIPTION:Demystify alt text! In this practical session\, you’ll learn what alt text is\, the basics of how to write alt text\, and how AI can support you! \nCreating an effective learning environment for all is important to us. To request an accommodation\, please email DigitalAccessibility@utsa.edu one week prior to your scheduled training. \nClick here to view event recording.  \nLog in and Enroll
URL:https://faculty.utsa.edu/events/alt-text-101-basics-decorative-images-and-how-ai-can-help-2/
LOCATION:ONLINE WEBINAR
CATEGORIES:Academic Innovation
END:VEVENT
END:VCALENDAR