BEGIN:VCALENDAR
VERSION:2.0
PRODID:-//Faculty Center - ECPv6.6.4.2//NONSGML v1.0//EN
CALSCALE:GREGORIAN
METHOD:PUBLISH
X-ORIGINAL-URL:https://faculty.utsa.edu
X-WR-CALDESC:Events for Faculty Center
REFRESH-INTERVAL;VALUE=DURATION:PT1H
X-Robots-Tag:noindex
X-PUBLISHED-TTL:PT1H
BEGIN:VTIMEZONE
TZID:America/Chicago
BEGIN:DAYLIGHT
TZOFFSETFROM:-0600
TZOFFSETTO:-0500
TZNAME:CDT
DTSTART:20170312T080000
END:DAYLIGHT
BEGIN:STANDARD
TZOFFSETFROM:-0500
TZOFFSETTO:-0600
TZNAME:CST
DTSTART:20171105T070000
END:STANDARD
END:VTIMEZONE
BEGIN:VEVENT
DTSTART;TZID=America/Chicago:20171006T100000
DTEND;TZID=America/Chicago:20171006T140000
DTSTAMP:20260419T190556
CREATED:20170907T161440Z
LAST-MODIFIED:20170907T161440Z
UID:2129-1507284000-1507298400@faculty.utsa.edu
SUMMARY:Transforming Engineering Education
DESCRIPTION:Explore new ideas in engineering pedagogy \nEngage in the design of meaningful engineering educational experiences \nDevelop activities for immediate implementation in your classroom \n  \nBased on the theory of Intrinsic Motivation and the importance of making students partners in their education\, this workshop includes an introduction to educational design approaches\, shares examples from experiences at Olin and UTEP\, and provides a structured activity to enable attendees to redesign their own educational experience. \n  \nRegister for this eventPresented By: UTSA Teaching and Learning Services and the College of Engineering \n  Guest speakers from UTEP and Olin College
URL:https://faculty.utsa.edu/events/transforming-engineering-education/
LOCATION:JPL Assembly Room\, JPL 4.04.22\, Main Campus
CATEGORIES:College of Engineering,UTSA Teaching and Learning Services
ORGANIZER;CN="Mary Dixson":MAILTO:mary.dixson@utsa.edu
END:VEVENT
END:VCALENDAR