BEGIN:VCALENDAR
VERSION:2.0
PRODID:-//Faculty Center - ECPv6.6.4.2//NONSGML v1.0//EN
CALSCALE:GREGORIAN
METHOD:PUBLISH
X-WR-CALNAME:Faculty Center
X-ORIGINAL-URL:https://faculty.utsa.edu
X-WR-CALDESC:Events for Faculty Center
REFRESH-INTERVAL;VALUE=DURATION:PT1H
X-Robots-Tag:noindex
X-PUBLISHED-TTL:PT1H
BEGIN:VTIMEZONE
TZID:America/Chicago
BEGIN:DAYLIGHT
TZOFFSETFROM:-0600
TZOFFSETTO:-0500
TZNAME:CDT
DTSTART:20250309T080000
END:DAYLIGHT
BEGIN:STANDARD
TZOFFSETFROM:-0500
TZOFFSETTO:-0600
TZNAME:CST
DTSTART:20251102T070000
END:STANDARD
END:VTIMEZONE
BEGIN:VEVENT
DTSTART;TZID=America/Chicago:20251105T120000
DTEND;TZID=America/Chicago:20251105T130000
DTSTAMP:20260422T032646
CREATED:20250820T144538Z
LAST-MODIFIED:20250820T144538Z
UID:11577-1762344000-1762347600@faculty.utsa.edu
SUMMARY:Beware of Predatory Publishers
DESCRIPTION:Have you ever received an email invitation to publish in a journal you have never heard of with promises of lightning-fast peer-review and publication times? Or\, have you ever found yourself listed on an editorial board that you have no recollection of joining? If so\, you’ve probably heard of predatory publishing. During this workshop\, participants will discuss this pervasive problem in academic publishing and how to spot the red flags through real-life examples. \nRegister for this eventPresented By:Emily HaywardCoordinator\, Scholarly Communication & Research SupportProvides scholarly communication support to faculty\, students and staff at the Main and Downtown campuses. She is available for specialized research consultations and classes on topics such as management of copyright and intellectual property\, scholarly metrics\, author profiles\, publishing choices\, publishing agreements and compliance with funder mandates. \nORCiD ID – 0000-0001-8860-4383
URL:https://faculty.utsa.edu/events/beware-of-predatory-publishers-3/
LOCATION:TX
CATEGORIES:Academic Innovation,Academy of Distinguished Teaching Scholars,College of Business,College of Education & Human Development,College of Engineering,College of Liberal and Fine Arts,College of Sciences,Community-Engaged Digital Scholarship Hub,Computer Science,Department of English,Department of History,Institutional Effectiveness,Learning Technologies,Mechanical Engineering,New Faculty Institute,Office of Digital Learning,Political Science & Geograhy,Research,UTSA Academic Affairs,UTSA Faculty Center,UTSA Knowledge Enterprise,UTSA Libraries,UTSA Office of Research Support,UTSA Research,UTSA Teaching and Learning Services
END:VEVENT
BEGIN:VEVENT
DTSTART;TZID=America/Chicago:20251112T160000
DTEND;TZID=America/Chicago:20251112T170000
DTSTAMP:20260422T032646
CREATED:20250820T145521Z
LAST-MODIFIED:20250820T145521Z
UID:11581-1762963200-1762966800@faculty.utsa.edu
SUMMARY:Indigenous Digital Archives: Content Platforms\, Tools and Strategies 
DESCRIPTION:Attendees will learn about digital archive platforms and other foundational guides for working with Indigenous communities. \nRegister for this eventPresented By:Veronica RodriguezHead of Digital Humanities & User EngagementAs Head of Digital Humanities and User Engagement\, Veronica is focused on creating public facing digital humanities projects\, particularly those that include the local San Antonio community. She has a background in libraries\, archives and museums.Javier RuedasInformation Specialist Digital Humanities & User EngagementInformation Specialist for Digital Projects and subject librarian for Modern Languages and Literatures\, Anthropology\, and Linguistics at UTSA Libraries. He supports the Community-Engaged Digital Scholarship Hub\, focusing on web development\, data storage\, and data retrieval. His work centers on planning and developing digital humanities projects\, with particular expertise in web interfaces and digital collection management systems.
URL:https://faculty.utsa.edu/events/indigenous-digital-archives-content-platforms-tools-and-strategies/
LOCATION:TX
CATEGORIES:Community-Engaged Digital Scholarship Hub,UTSA Libraries
END:VEVENT
END:VCALENDAR