BEGIN:VCALENDAR
VERSION:2.0
PRODID:-//Faculty Center - ECPv6.6.4.2//NONSGML v1.0//EN
CALSCALE:GREGORIAN
METHOD:PUBLISH
X-ORIGINAL-URL:https://faculty.utsa.edu
X-WR-CALDESC:Events for Faculty Center
REFRESH-INTERVAL;VALUE=DURATION:PT1H
X-Robots-Tag:noindex
X-PUBLISHED-TTL:PT1H
BEGIN:VTIMEZONE
TZID:America/Chicago
BEGIN:DAYLIGHT
TZOFFSETFROM:-0600
TZOFFSETTO:-0500
TZNAME:CDT
DTSTART:20260308T080000
END:DAYLIGHT
BEGIN:STANDARD
TZOFFSETFROM:-0500
TZOFFSETTO:-0600
TZNAME:CST
DTSTART:20261101T070000
END:STANDARD
END:VTIMEZONE
BEGIN:VEVENT
DTSTART;TZID=America/Chicago:20260403T120000
DTEND;TZID=America/Chicago:20260403T130000
DTSTAMP:20260421T214051
CREATED:20260129T214341Z
LAST-MODIFIED:20260216T160122Z
UID:12279-1775217600-1775221200@faculty.utsa.edu
SUMMARY:Data Science RIG Meeting
DESCRIPTION:Monthly meetings of the UT San Antonio Data Science RIG.\nIf you would like information on joining existing RIGs\, please contact Dr. Siobhan Fleming\, Assistant Vice President\, Strategic Research Initiatives\, Siobhan.Fleming@utsa.edu in the office of Research and Innovation. \nView more information
URL:https://faculty.utsa.edu/events/data-science-rig-meeting-13/
LOCATION:San Pedro 1 | 325 | Kilo 3 & Virtual: TEAMS
CATEGORIES:Research,UTSA Research
ORGANIZER;CN="Faculty Research Development":MAILTO:siobhan.fleming@utsa.edu
END:VEVENT
BEGIN:VEVENT
DTSTART;TZID=America/Chicago:20260407T140000
DTEND;TZID=America/Chicago:20260407T153000
DTSTAMP:20260421T214051
CREATED:20250912T145213Z
LAST-MODIFIED:20250912T145226Z
UID:11826-1775570400-1775575800@faculty.utsa.edu
SUMMARY:The Review Process & What Goes on Behind Closed Doors
DESCRIPTION:An in-depth consideration of the review process\, and how you can best put forward your ideas to capture the reviewers’ attention. \nPresented By: Richard H. Nader\, PhD\, Global Proposal Solutions\nRichard H. Nader\, Ph.D.\, Global Proposal Solutions Flyer_The Review Process & What Goes on Behind Closed Doors \nView the Event FlyerRegister for this eventView more information
URL:https://faculty.utsa.edu/events/the-review-process-what-goes-on-behind-closed-doors/
LOCATION:Virtual: Zoom
CATEGORIES:Research,UTSA Research
ORGANIZER;CN="Faculty Research Development":MAILTO:siobhan.fleming@utsa.edu
END:VEVENT
BEGIN:VEVENT
DTSTART;TZID=America/Chicago:20260416T153000
DTEND;TZID=America/Chicago:20260416T163000
DTSTAMP:20260421T214051
CREATED:20251205T210128Z
LAST-MODIFIED:20251205T210128Z
UID:12169-1776353400-1776357000@faculty.utsa.edu
SUMMARY:Community Solutions RIG Meeting
DESCRIPTION:Monthly meeting of the UT San Antonio Community Solutions RIG\nIf you would like information on joining existing RIGs\, please contact Dr. Siobhan Fleming\, Assistant Vice President\, Strategic Research Initiatives\, Siobhan.Fleming@utsa.edu in the office of Research and Innovation. \nView more information
URL:https://faculty.utsa.edu/events/community-solutions-rig-meeting-16/
LOCATION:Virtual: TEAMS
CATEGORIES:Research,UTSA Research
ORGANIZER;CN="Faculty Research Development":MAILTO:siobhan.fleming@utsa.edu
END:VEVENT
BEGIN:VEVENT
DTSTART;TZID=America/Chicago:20260420T100000
DTEND;TZID=America/Chicago:20260420T113000
DTSTAMP:20260421T214051
CREATED:20250912T173342Z
LAST-MODIFIED:20250912T173342Z
UID:11830-1776679200-1776684600@faculty.utsa.edu
SUMMARY:Proposal “Post-Mortem”: Objectively Assessing Declined Proposals
DESCRIPTION:Seeking and securing external funding is a process\, not an event! Part of that process is receiving “declined” notices from funders. This workshop will take you on the journey of understanding what happened\, assessing the weaknesses identified in your reviews\, and knowing whether to try again. Be prepared by reviewing your reviews when you come to the workshop! This will be interactive\, and we welcome your participation. \nPresented By: Richard H. Nader\, PhD\, Global Proposal Solutions\nRichard H. Nader\, Ph.D.\, Global Proposal Solutions Flyer_ Proposal “Post-Mortem” \nView the Event FlyerRegister for this eventView more information
URL:https://faculty.utsa.edu/events/proposal-post-mortem-objectively-assessing-declined-proposals/
LOCATION:Virtual: Zoom
CATEGORIES:Research,UTSA Research
ORGANIZER;CN="Faculty Research Development":MAILTO:siobhan.fleming@utsa.edu
END:VEVENT
BEGIN:VEVENT
DTSTART;TZID=America/Chicago:20260420T110000
DTEND;TZID=America/Chicago:20260420T120000
DTSTAMP:20260421T214051
CREATED:20251205T210336Z
LAST-MODIFIED:20251205T210336Z
UID:12170-1776682800-1776686400@faculty.utsa.edu
SUMMARY:Climate RIG Meeting
DESCRIPTION:Monthly meeting of the UT San Antonio Climate RIG\nIf you would like information on joining existing RIGs\, please contact Dr. Siobhan Fleming\, Assistant Vice President\, Strategic Research Initiatives\, Siobhan.Fleming@utsa.edu in the office of Research and Innovation. \nView more information
URL:https://faculty.utsa.edu/events/climate-rig-meeting-20/
LOCATION:Faculty Center Small Conference Room JPL 4.04.12D & Virtual: TEAMS
CATEGORIES:Research,UTSA Research
ORGANIZER;CN="Faculty Research Development":MAILTO:siobhan.fleming@utsa.edu
END:VEVENT
BEGIN:VEVENT
DTSTART;TZID=America/Chicago:20260422T150000
DTEND;TZID=America/Chicago:20260422T170000
DTSTAMP:20260421T214051
CREATED:20260123T205719Z
LAST-MODIFIED:20260123T205719Z
UID:12267-1776870000-1776877200@faculty.utsa.edu
SUMMARY:Remote Collaboration with GitHub repositories
DESCRIPTION:GitHub is the foremost platform for team collaboration on digital projects. It allows members of a team to synchronize the main line of the project while each member works on their own feature. In this workshop we will demonstrate the feature branch workflow for GitHub project collaboration. The branch workflow is one of the basic GitHub workflows for team collaboration on digital projects. \nRegister for this event
URL:https://faculty.utsa.edu/events/remote-collaboration-with-github-repositories/
LOCATION:CEDISH Co-Lab\, 3.02.32\, 3rd Floor\, John Peace Library\, 1 UTSA Circle\, San Antonio\, TX\, 78249
CATEGORIES:Academic Innovation,College of Business,College of Education & Human Development,College of Engineering,College of Liberal and Fine Arts,College of Sciences,Community-Engaged Digital Scholarship Hub,Computer Science,Department of English,Department of History,Faculty Success,Political Science & Geograhy,Research,UTSA Academic Affairs,UTSA Libraries,UTSA Office of Research Support,UTSA Research
ORGANIZER;CN="Community-Engaged Digital Scholarship Hub (CEDISH)":MAILTO:cedish@utsa.edu
END:VEVENT
BEGIN:VEVENT
DTSTART;TZID=America/Chicago:20260423T120000
DTEND;TZID=America/Chicago:20260423T133000
DTSTAMP:20260421T214051
CREATED:20251117T171235Z
LAST-MODIFIED:20260115T203902Z
UID:12134-1776945600-1776951000@faculty.utsa.edu
SUMMARY:Embracing Change\, Empowering Collaboration: Building Momentum in a Shifting Academic Landscape
DESCRIPTION:Turn uncertainty into opportunity through communication\, connection\, and shared vision. Change is a constant in higher education—new initiatives\, shifting needs\, evolving technologies\, and redefined institutional goals. How faculty respond to change can either create friction or fuel progress. This interactive session focuses on turning moments of transition into opportunities for growth and collaboration.\nBy the end of this session\, participants will be able to: \n\nRecognize common responses to change and how they influence collaboration and communication in academic settings. (Risks\, opportunities\, and emotions that change brings)\nApply change management strategies that foster trust\, clarity\, and connection during periods of transition.\n\nPresented By: Judith Verdon\, DBA Wellsprings Organizational Development Consulting & Norma Guerra\, Ph.D.\, Engaged Leadership Development\n  Flyer_Embracing Change\, Empowering Collaboration_01.14 \nView the Event FlyerRegister for this eventView more information
URL:https://faculty.utsa.edu/events/embracing-change-empowering-collaboration-building-momentum-in-a-shifting-academic-landscape/
LOCATION:Virtual: Zoom
CATEGORIES:Research,UTSA Research
ORGANIZER;CN="Faculty Research Development":MAILTO:siobhan.fleming@utsa.edu
END:VEVENT
BEGIN:VEVENT
DTSTART;TZID=America/Chicago:20260428T130000
DTEND;TZID=America/Chicago:20260428T140000
DTSTAMP:20260421T214051
CREATED:20251017T133600Z
LAST-MODIFIED:20251017T133600Z
UID:12032-1777381200-1777384800@faculty.utsa.edu
SUMMARY:Five-Year Tenure Plan
DESCRIPTION:Faculty who are starting in their tenure and promotion processes often struggle with crafting a five-year plan. The absence of said plan can impact how expectations are met\, how impact is documented\, and how tenure and promotion are reviewed. This workshop will help early-career faculty to craft a 5-year plan and communicate their focus on areas of expertise in ways that are impactful and success-driven. \nPresented By: Idalis Villanueva\, PhD.\, The Menon BranchFlyer-Five-Year Tenure Plan \nView the Event FlyerRegister for this eventView more information
URL:https://faculty.utsa.edu/events/five-year-tenure-plan/
LOCATION:Virtual: Zoom
CATEGORIES:Research,UTSA Research
ORGANIZER;CN="Faculty Research Development":MAILTO:siobhan.fleming@utsa.edu
END:VEVENT
BEGIN:VEVENT
DTSTART;TZID=America/Chicago:20260428T140000
DTEND;TZID=America/Chicago:20260428T150000
DTSTAMP:20260421T214051
CREATED:20260401T200432Z
LAST-MODIFIED:20260421T183417Z
UID:12328-1777384800-1777388400@faculty.utsa.edu
SUMMARY:Disabilities RIG Meeting
DESCRIPTION:Monthly meetings of the UT San Antonio Disabilities RIG\nIf you would like information on joining existing RIGs\, please contact Dr. Siobhan Fleming\, Assistant Vice President\, Strategic Research Initiatives\, Siobhan.Fleming@utsa.edu in the office of Research and Innovation. View more information
URL:https://faculty.utsa.edu/events/disabilities-rig-meeting-15/
LOCATION:Virtual: Teams
CATEGORIES:Research,UTSA Research
ORGANIZER;CN="Faculty Research Development":MAILTO:siobhan.fleming@utsa.edu
END:VEVENT
END:VCALENDAR