BEGIN:VCALENDAR
VERSION:2.0
PRODID:-//Faculty Center - ECPv6.6.4.2//NONSGML v1.0//EN
CALSCALE:GREGORIAN
METHOD:PUBLISH
X-WR-CALNAME:Faculty Center
X-ORIGINAL-URL:https://faculty.utsa.edu
X-WR-CALDESC:Events for Faculty Center
REFRESH-INTERVAL;VALUE=DURATION:PT1H
X-Robots-Tag:noindex
X-PUBLISHED-TTL:PT1H
BEGIN:VTIMEZONE
TZID:America/Chicago
BEGIN:DAYLIGHT
TZOFFSETFROM:-0600
TZOFFSETTO:-0500
TZNAME:CDT
DTSTART:20240310T080000
END:DAYLIGHT
BEGIN:STANDARD
TZOFFSETFROM:-0500
TZOFFSETTO:-0600
TZNAME:CST
DTSTART:20241103T070000
END:STANDARD
END:VTIMEZONE
BEGIN:VEVENT
DTSTART;VALUE=DATE:20240930
DTEND;VALUE=DATE:20241005
DTSTAMP:20260422T151803
CREATED:20240923T181932Z
LAST-MODIFIED:20240923T183544Z
UID:10496-1727654400-1728086399@faculty.utsa.edu
SUMMARY:Faculty Appreciation Week 2024
DESCRIPTION:We’re excited to announce the return of our annual Faculty Appreciation Week running September 30 – October 4\, 2024. Coordinated by UTSA Faculty Success in partnership with colleges and faculty support offices across the university\, appreciation events for and about faculty are taking place at the Main Campus and Downton Campus that we hope you’ll attend. \nView more information
URL:https://faculty.utsa.edu/events/faculty-appreciation-week-2024/
LOCATION:TX
CATEGORIES:Academic Innovation,Academy of Distinguished Teaching Scholars,Faculty Success,Research,UTSA Academic Affairs,UTSA Research
ATTACH;FMTTYPE=image/png:https://faculty.utsa.edu/wp-content/uploads/2022/09/Screen-Shot-2022-09-27-at-2.13.09-PM.png
ORGANIZER;CN="UTSA Faculty Success":MAILTO:FacultySuccess@utsa.edu
END:VEVENT
END:VCALENDAR