BEGIN:VCALENDAR
VERSION:2.0
PRODID:-//Faculty Center - ECPv6.6.4.2//NONSGML v1.0//EN
CALSCALE:GREGORIAN
METHOD:PUBLISH
X-ORIGINAL-URL:https://faculty.utsa.edu
X-WR-CALDESC:Events for Faculty Center
REFRESH-INTERVAL;VALUE=DURATION:PT1H
X-Robots-Tag:noindex
X-PUBLISHED-TTL:PT1H
BEGIN:VTIMEZONE
TZID:America/Chicago
BEGIN:DAYLIGHT
TZOFFSETFROM:-0600
TZOFFSETTO:-0500
TZNAME:CDT
DTSTART:20170312T080000
END:DAYLIGHT
BEGIN:STANDARD
TZOFFSETFROM:-0500
TZOFFSETTO:-0600
TZNAME:CST
DTSTART:20171105T070000
END:STANDARD
END:VTIMEZONE
BEGIN:VEVENT
DTSTART;TZID=America/Chicago:20170726T120000
DTEND;TZID=America/Chicago:20170726T130000
DTSTAMP:20260421T211105
CREATED:20170627T192149Z
LAST-MODIFIED:20181119T155402Z
UID:1874-1501070400-1501074000@faculty.utsa.edu
SUMMARY:Army Research Laboratory Information Session (Morning)
DESCRIPTION:Come out and meet Dr. Ray Bateman\, ARL South Cyber on-site Lead\, and Kristin Schweitzer who form the nucleus of ARL South Cyber on our campus. They will give a brief overview of the Army Research Laboratory (ARL) and how it fits within the Army’s hierarchy. They will discuss ARL’s Essential Research Areas\, the Campaigns that support them\, and the specific cyber security research focus for the office at UTSA. Cyber research areas include: \n• Cyber/Physical Systems\n• Cyber Analytics and Visualization\n• Machine Learning\n• Resource Constrained Detection\n• Human Dimensions \nThis partnership was facilitated by the UT System Office of Federal Relations and the UTSA Office of the Vice President for Research. \nIf you’d like to contact ARL\, send an email to ARL.South@utsa.edu. \nRegister for this event
URL:https://faculty.utsa.edu/events/army-research-laboratory-information-session-morning/
CATEGORIES:UTSA Research
ORGANIZER;CN="Daniel Arriaga":MAILTO:daniel.arriaga@utsa.edu
END:VEVENT
BEGIN:VEVENT
DTSTART;TZID=America/Chicago:20170726T150000
DTEND;TZID=America/Chicago:20170726T160000
DTSTAMP:20260421T211105
CREATED:20170627T192800Z
LAST-MODIFIED:20181119T155429Z
UID:1878-1501081200-1501084800@faculty.utsa.edu
SUMMARY:Army Research Laboratory Information Session (Afternoon)
DESCRIPTION:Come out and meet Dr. Ray Bateman\, ARL South Cyber on-site Lead\, and Kristin Schweitzer who form the nucleus of ARL South Cyber on our campus. They will give a brief overview of the Army Research Laboratory (ARL) and how it fits within the Army’s hierarchy. They will discuss ARL’s Essential Research Areas\, the Campaigns that support them\, and the specific cyber security research focus for the office at UTSA. Cyber research areas include: \n• Cyber/Physical Systems\n• Cyber Analytics and Visualization\n• Machine Learning\n• Resource Constrained Detection\n• Human Dimensions \nThis partnership was facilitated by the UT System Office of Federal Relations and the UTSA Office of the Vice President for Research. \nIf you’d like to contact ARL\, send an email to ARL.South@utsa.edu. \nRegister for this event
URL:https://faculty.utsa.edu/events/army-research-laboratory-information-session-afternoon/
CATEGORIES:UTSA Research
ORGANIZER;CN="Daniel Arriaga":MAILTO:daniel.arriaga@utsa.edu
END:VEVENT
END:VCALENDAR