BEGIN:VCALENDAR
VERSION:2.0
PRODID:-//Faculty Center - ECPv6.6.4.2//NONSGML v1.0//EN
CALSCALE:GREGORIAN
METHOD:PUBLISH
X-ORIGINAL-URL:https://faculty.utsa.edu
X-WR-CALDESC:Events for Faculty Center
REFRESH-INTERVAL;VALUE=DURATION:PT1H
X-Robots-Tag:noindex
X-PUBLISHED-TTL:PT1H
BEGIN:VTIMEZONE
TZID:America/Chicago
BEGIN:DAYLIGHT
TZOFFSETFROM:-0600
TZOFFSETTO:-0500
TZNAME:CDT
DTSTART:20180311T080000
END:DAYLIGHT
BEGIN:STANDARD
TZOFFSETFROM:-0500
TZOFFSETTO:-0600
TZNAME:CST
DTSTART:20181104T070000
END:STANDARD
END:VTIMEZONE
BEGIN:VEVENT
DTSTART;TZID=America/Chicago:20180206T133000
DTEND;TZID=America/Chicago:20180206T150000
DTSTAMP:20260423T024524
CREATED:20180110T223107Z
LAST-MODIFIED:20180117T192204Z
UID:2534-1517923800-1517929200@faculty.utsa.edu
SUMMARY:NSF Early CAREER Panel
DESCRIPTION:This presentation and panel discussion are designed to help faculty understand NSF’s Faculty Early Career Development Program (CAREER). The panel will consist of current and recent NSF CAREER awardees who will be on hand to answer questions and suggest strategies for enhancing CAREER proposals. \nView the Event FlyerRegister for this event
URL:https://faculty.utsa.edu/events/nsf-early-career-panel/
LOCATION:JPL Assembly Room\, JPL 4.04.22\, Main Campus
CATEGORIES:UTSA Research
ORGANIZER;CN="Daniel Arriaga":MAILTO:daniel.arriaga@utsa.edu
END:VEVENT
BEGIN:VEVENT
DTSTART;TZID=America/Chicago:20180212T103000
DTEND;TZID=America/Chicago:20180212T120000
DTSTAMP:20260423T024524
CREATED:20180110T215953Z
LAST-MODIFIED:20180117T192236Z
UID:2524-1518431400-1518436800@faculty.utsa.edu
SUMMARY:New Faculty Institute (Research): Et cetera-The Forgotten Proposal Sections - Main Campus
DESCRIPTION:The focus of this session will be on the often-forgotten extra-narrative proposal sections (such as data management\, mentoring\, and research compliance plans\, biographical sketches\, and facilities descriptions).  Participants will learn how to increase the impact of their proposals through careful attention to the entire application package. \nRegister for this workshopPresented By:Lucy DeckardPresident of Academic Research Funding Strategies\, LLCLucy Deckard is the President of Academic Research Funding Strategies\, LLC\, a consulting firm she founded in 2010 that provides services to help academic institutions\, faculty and staff develop the expertise in-house to identify funding opportunities\, understand funding agencies\, and develop successful research grant proposals. Previously\, Ms. Deckard served as Associate Director of the Texas A&M University’s Office of Proposal Development.
URL:https://faculty.utsa.edu/events/new-faculty-institute-research-et-cetera-the-forgotten-proposal-sections-main-campus/
LOCATION:JPL Assembly Room\, JPL 4.04.22\, Main Campus
CATEGORIES:UTSA Research
ORGANIZER;CN="Daniel Arriaga":MAILTO:daniel.arriaga@utsa.edu
END:VEVENT
BEGIN:VEVENT
DTSTART;TZID=America/Chicago:20180213T103000
DTEND;TZID=America/Chicago:20180213T120000
DTSTAMP:20260423T024524
CREATED:20180110T221039Z
LAST-MODIFIED:20180117T192256Z
UID:2528-1518517800-1518523200@faculty.utsa.edu
SUMMARY:New Faculty Institute (Research): Et cetera-The Forgotten Proposal Sections – Downtown Campus
DESCRIPTION:The focus of this session will be on the often-forgotten extra-narrative proposal sections (such as data management\, mentoring\, and research compliance plans\, biographical sketches\, and facilities descriptions).  Participants will learn how to increase the impact of their proposals through careful attention to the entire application package. \nRegister for this workshopPresented By:Lucy DeckardPresident of Academic Research Funding Strategies\, LLCLucy Deckard is the President of Academic Research Funding Strategies\, LLC\, a consulting firm she founded in 2010 that provides services to help academic institutions\, faculty and staff develop the expertise in-house to identify funding opportunities\, understand funding agencies\, and develop successful research grant proposals. Previously\, Ms. Deckard served as Associate Director of the Texas A&M University’s Office of Proposal Development.
URL:https://faculty.utsa.edu/events/new-faculty-institute-research-et-cetera-the-forgotten-proposal-sections-downtown-campus/
LOCATION:Paseo Conference Room B\, Durango Building\, DB 1.120\, Downtown Campus
CATEGORIES:UTSA Research
ORGANIZER;CN="Daniel Arriaga":MAILTO:daniel.arriaga@utsa.edu
END:VEVENT
END:VCALENDAR