BEGIN:VCALENDAR
VERSION:2.0
PRODID:-//Faculty Center - ECPv6.6.4.2//NONSGML v1.0//EN
CALSCALE:GREGORIAN
METHOD:PUBLISH
X-WR-CALNAME:Faculty Center
X-ORIGINAL-URL:https://faculty.utsa.edu
X-WR-CALDESC:Events for Faculty Center
REFRESH-INTERVAL;VALUE=DURATION:PT1H
X-Robots-Tag:noindex
X-PUBLISHED-TTL:PT1H
BEGIN:VTIMEZONE
TZID:America/Chicago
BEGIN:DAYLIGHT
TZOFFSETFROM:-0600
TZOFFSETTO:-0500
TZNAME:CDT
DTSTART:20250309T080000
END:DAYLIGHT
BEGIN:STANDARD
TZOFFSETFROM:-0500
TZOFFSETTO:-0600
TZNAME:CST
DTSTART:20251102T070000
END:STANDARD
END:VTIMEZONE
BEGIN:VEVENT
DTSTART;TZID=America/Chicago:20251001T110000
DTEND;TZID=America/Chicago:20251001T130000
DTSTAMP:20260421T085157
CREATED:20250922T150339Z
LAST-MODIFIED:20250922T150533Z
UID:11876-1759316400-1759323600@faculty.utsa.edu
SUMMARY:Center for Space Technology and Operations Research - Space Technology Student Poster Day
DESCRIPTION:Hosted By: Center for Space Technology and Operations ResearchJoin us for an exciting day of innovation\, discovery\, and exploration in space and space adjacent technology! Hosted by the UTSA Center for Space Technology and Operation Research (CSTOR)\, this event will highlight bold ideas from student researchers shaping the future of space! Don’t miss this opportunity to connect with others passionate about space and technology. \nInvite Flyer \nView the Event FlyerView more information
URL:https://faculty.utsa.edu/events/center-for-space-technology-and-operations-research-space-technology-student-poster-day/
LOCATION:Biotechnology Sciences and Engineering Building | 1st Floor\, Atrium
CATEGORIES:Research,UTSA Research
ORGANIZER;CN="UTSA Research":MAILTO:research@utsa.edu
END:VEVENT
BEGIN:VEVENT
DTSTART;TZID=America/Chicago:20251001T143000
DTEND;TZID=America/Chicago:20251001T153000
DTSTAMP:20260421T085157
CREATED:20250912T174234Z
LAST-MODIFIED:20250912T174234Z
UID:11836-1759329000-1759332600@faculty.utsa.edu
SUMMARY:Human Performance RIG Kick Off Meeting
DESCRIPTION:Kick off the monthly meetings of the Human Performance RIG for Fall 2025.\nIf you would like information on joining existing RIGs\, please contact Dr. Siobhan Fleming\, Sr. Director for Faculty Development\, Siobhan.Fleming@utsa.edu\, in the office of Research \nView more information
URL:https://faculty.utsa.edu/events/human-performance-rig-kick-off-meeting/
LOCATION:Virtual: TEAMS
CATEGORIES:Research,UTSA Research
ORGANIZER;CN="Faculty Research Development":MAILTO:siobhan.fleming@utsa.edu
END:VEVENT
END:VCALENDAR