BEGIN:VCALENDAR
VERSION:2.0
PRODID:-//Faculty Center - ECPv6.6.4.2//NONSGML v1.0//EN
CALSCALE:GREGORIAN
METHOD:PUBLISH
X-WR-CALNAME:Faculty Center
X-ORIGINAL-URL:https://faculty.utsa.edu
X-WR-CALDESC:Events for Faculty Center
REFRESH-INTERVAL;VALUE=DURATION:PT1H
X-Robots-Tag:noindex
X-PUBLISHED-TTL:PT1H
BEGIN:VTIMEZONE
TZID:America/Chicago
BEGIN:DAYLIGHT
TZOFFSETFROM:-0600
TZOFFSETTO:-0500
TZNAME:CDT
DTSTART:20260308T080000
END:DAYLIGHT
BEGIN:STANDARD
TZOFFSETFROM:-0500
TZOFFSETTO:-0600
TZNAME:CST
DTSTART:20261101T070000
END:STANDARD
END:VTIMEZONE
BEGIN:VEVENT
DTSTART;TZID=America/Chicago:20260325T150000
DTEND;TZID=America/Chicago:20260325T163000
DTSTAMP:20260419T110914
CREATED:20260123T205238Z
LAST-MODIFIED:20260123T205306Z
UID:12265-1774450800-1774456200@faculty.utsa.edu
SUMMARY:Storytelling with StorymapJS and SoundciteJS
DESCRIPTION:This workshop introduces you to two of Knight Lab’s storytelling tools\, StoryMapJS and SoundciteJS. StoryMapJS lets you create a map that guides people through locations\, timelines\, or events. SoundciteJS embeds short\, in-line audio clips directly into text. Using both tools helps you create stories that show where events take place and add short audio clips for extra context. By the end of the workshop\, you will know how to use both tools and create your own interactive story. \nRegister for this event
URL:https://faculty.utsa.edu/events/storytelling-with-storymapjs-and-soundcitejs/
LOCATION:CEDISH Co-Lab\, 3.02.32\, 3rd Floor\, John Peace Library\, 1 UTSA Circle\, San Antonio\, TX\, 78249
CATEGORIES:Academic Innovation,College of Business,College of Education & Human Development,College of Engineering,College of Liberal and Fine Arts,Community-Engaged Digital Scholarship Hub,Computer Science,Department of English,Department of History,Honors College,Mechanical Engineering,Political Science & Geograhy,Research,UTSA Libraries,UTSA Office of Research Support,UTSA Research
ORGANIZER;CN="Community-Engaged Digital Scholarship Hub (CEDISH)":MAILTO:cedish@utsa.edu
END:VEVENT
END:VCALENDAR