BEGIN:VCALENDAR
VERSION:2.0
PRODID:-//Faculty Center - ECPv6.6.4.2//NONSGML v1.0//EN
CALSCALE:GREGORIAN
METHOD:PUBLISH
X-WR-CALNAME:Faculty Center
X-ORIGINAL-URL:https://faculty.utsa.edu
X-WR-CALDESC:Events for Faculty Center
REFRESH-INTERVAL;VALUE=DURATION:PT1H
X-Robots-Tag:noindex
X-PUBLISHED-TTL:PT1H
BEGIN:VTIMEZONE
TZID:America/Chicago
BEGIN:DAYLIGHT
TZOFFSETFROM:-0600
TZOFFSETTO:-0500
TZNAME:CDT
DTSTART:20230312T080000
END:DAYLIGHT
BEGIN:STANDARD
TZOFFSETFROM:-0500
TZOFFSETTO:-0600
TZNAME:CST
DTSTART:20231105T070000
END:STANDARD
END:VTIMEZONE
BEGIN:VEVENT
DTSTART;TZID=America/Chicago:20230327T100000
DTEND;TZID=America/Chicago:20230327T120000
DTSTAMP:20260422T082224
CREATED:20230324T173358Z
LAST-MODIFIED:20230324T173358Z
UID:7568-1679911200-1679918400@faculty.utsa.edu
SUMMARY:Canvas Support Hours
DESCRIPTION:Join us at the Academic Innovation Center (MS 240\, in the Student Success District across from the Tomás Rivera Center for Academic Excellence) to work with one of our experts to answer any questions and help prepare your course(s) for the move to Canvas Fall 2023. \nCreating an inclusive learning environment is important to us. To request an accommodation\, please email DigitalAccessibility@utsa.edu one week prior to your scheduled training.
URL:https://faculty.utsa.edu/events/canvas-support-hours-103/
LOCATION:MS 240
CATEGORIES:Academic Innovation
END:VEVENT
BEGIN:VEVENT
DTSTART;TZID=America/Chicago:20230327T150000
DTEND;TZID=America/Chicago:20230327T170000
DTSTAMP:20260422T082224
CREATED:20230324T173441Z
LAST-MODIFIED:20230324T173856Z
UID:7570-1679929200-1679936400@faculty.utsa.edu
SUMMARY:Canvas Support Hours
DESCRIPTION:Join us at the Academic Innovation Center (MS 240\, in the Student Success District across from the Tomás Rivera Center for Academic Excellence) to work with one of our experts to answer any questions and help prepare your course(s) for the move to Canvas Fall 2023. \nCreating an inclusive learning environment is important to us. To request an accommodation\, please email DigitalAccessibility@utsa.edu one week prior to your scheduled training.
URL:https://faculty.utsa.edu/events/canvas-support-hours-104/
LOCATION:MS 240
CATEGORIES:Academic Innovation
END:VEVENT
BEGIN:VEVENT
DTSTART;TZID=America/Chicago:20230328T090000
DTEND;TZID=America/Chicago:20230328T110000
DTSTAMP:20260422T082224
CREATED:20230324T165817Z
LAST-MODIFIED:20230324T165817Z
UID:7513-1679994000-1680001200@faculty.utsa.edu
SUMMARY:Canvas Support Hours
DESCRIPTION:Join us at the Academic Innovation Center (MS 240\, in the Student Success District across from the Tomás Rivera Center for Academic Excellence) to work with one of our experts to answer any questions and help prepare your course(s) for the move to Canvas Fall 2023. \nCreating an inclusive learning environment is important to us. To request an accommodation\, please email DigitalAccessibility@utsa.edu one week prior to your scheduled training.
URL:https://faculty.utsa.edu/events/canvas-support-hours-23/
LOCATION:MS 240
CATEGORIES:Academic Innovation
END:VEVENT
BEGIN:VEVENT
DTSTART;TZID=America/Chicago:20230328T140000
DTEND;TZID=America/Chicago:20230328T160000
DTSTAMP:20260422T082224
CREATED:20230324T165941Z
LAST-MODIFIED:20230324T165941Z
UID:7515-1680012000-1680019200@faculty.utsa.edu
SUMMARY:Canvas Support Hours
DESCRIPTION:Join us at the Academic Innovation Center (MS 240\, in the Student Success District across from the Tomás Rivera Center for Academic Excellence) to work with one of our experts to answer any questions and help prepare your course(s) for the move to Canvas Fall 2023. \nCreating an inclusive learning environment is important to us. To request an accommodation\, please email DigitalAccessibility@utsa.edu one week prior to your scheduled training.
URL:https://faculty.utsa.edu/events/canvas-support-hours-34/
LOCATION:MS 240
CATEGORIES:Academic Innovation
END:VEVENT
BEGIN:VEVENT
DTSTART;TZID=America/Chicago:20230329T100000
DTEND;TZID=America/Chicago:20230329T120000
DTSTAMP:20260422T082224
CREATED:20230322T190301Z
LAST-MODIFIED:20230322T190301Z
UID:7450-1680084000-1680091200@faculty.utsa.edu
SUMMARY:Canvas Support Hours
DESCRIPTION:Join us at the Academic Innovation Center (MS 240\, in the Student Success District across from the Tomás Rivera Center for Academic Excellence) to work with one of our experts to answer any questions and help prepare your course(s) for the move to Canvas Fall 2023. \nCreating an inclusive learning environment is important to us. To request an accommodation\, please email DigitalAccessibility@utsa.edu one week prior to your scheduled training.
URL:https://faculty.utsa.edu/events/canvas-support-hours-52/
LOCATION:MS 240
CATEGORIES:Academic Innovation
END:VEVENT
BEGIN:VEVENT
DTSTART;TZID=America/Chicago:20230329T150000
DTEND;TZID=America/Chicago:20230329T170000
DTSTAMP:20260422T082224
CREATED:20230322T190346Z
LAST-MODIFIED:20230322T190346Z
UID:7452-1680102000-1680109200@faculty.utsa.edu
SUMMARY:Canvas Support Hours
DESCRIPTION:Join us at the Academic Innovation Center (MS 240\, in the Student Success District across from the Tomás Rivera Center for Academic Excellence) to work with one of our experts to answer any questions and help prepare your course(s) for the move to Canvas Fall 2023. \nCreating an inclusive learning environment is important to us. To request an accommodation\, please email DigitalAccessibility@utsa.edu one week prior to your scheduled training.
URL:https://faculty.utsa.edu/events/canvas-support-hours-53/
LOCATION:MS 240
CATEGORIES:Academic Innovation
END:VEVENT
BEGIN:VEVENT
DTSTART;TZID=America/Chicago:20230330T090000
DTEND;TZID=America/Chicago:20230330T110000
DTSTAMP:20260422T082224
CREATED:20230322T175457Z
LAST-MODIFIED:20230322T175457Z
UID:7387-1680166800-1680174000@faculty.utsa.edu
SUMMARY:Canvas Support Hours
DESCRIPTION:Join us at the Academic Innovation Center (MS 240\, in the Student Success District across from the Tomás Rivera Center for Academic Excellence) to work with one of our experts to answer any questions and help prepare your course(s) for the move to Canvas Fall 2023. \nCreating an inclusive learning environment is important to us. To request an accommodation\, please email DigitalAccessibility@utsa.edu one week prior to your scheduled training.
URL:https://faculty.utsa.edu/events/canvas-support-hours-26/
LOCATION:MS 240
CATEGORIES:Academic Innovation
END:VEVENT
BEGIN:VEVENT
DTSTART;TZID=America/Chicago:20230330T120000
DTEND;TZID=America/Chicago:20230330T130000
DTSTAMP:20260422T082224
CREATED:20230307T204633Z
LAST-MODIFIED:20230330T201549Z
UID:7324-1680177600-1680181200@faculty.utsa.edu
SUMMARY:Play@ UTSA – Gamified Teaching Strategy for Enhancing Learning using Escape Rooms
DESCRIPTION:Join our Escape Room presentation to discover ways to challenge your problem-solving skills and creativity as you explore a unique and fully immersive environment filled with hidden secrets and surprises. Our expert panelists will be on hand to guide you through the experience\, offering hints and tips to help you progress and achieve success. Whether you’re an escape room enthusiast or a newcomer to the genre\, our presentation is the perfect opportunity to put your skills to the test and experience the thrill of the escape. \nPanelists:–Lorenzo Brancaleon\, COS & Academic Innovation Faculty Fellow–Cynthia Roberts\, Assistant Professor of Practice\, Mathematics – COS–Elyse Ramirez\, Lead Learning Experience Designer – TLDT Academic Innovation–Janet Vote\, Lecturer and ACUE Fellow\, Earth and Planetary Sciences – COS \nModerator:–Alexia Cormier\, Instructional Designer – TLDT Academic Innovation \nThe panel will be offered in a hyflex modality and participants can choose whether to join the session on campus or online. For on-campus participants\, lunch will be provided. Bring your own device to practice with some gamification strategies at the end of the panel. \nThrough this panel\, faculty will also be enrolled in a fully online course focused on gamification strategies offered both in Blackboard Learn and Canvas. \nFor on-campus attendance: Pool for dietary restrictions to be confirmed by March 13th. \nCreating an inclusive learning environment is important to us. To request an accommodation\, please email DigitalAccessibility@utsa.edu one week prior to your scheduled training. \nClick here to view webinar recording \nLogin and enroll
URL:https://faculty.utsa.edu/events/play-utsa-gamified-teaching-strategy-for-enhancing-learning-using-escape-rooms/
LOCATION:MS 240 and Online
CATEGORIES:Academic Innovation
END:VEVENT
BEGIN:VEVENT
DTSTART;TZID=America/Chicago:20230330T140000
DTEND;TZID=America/Chicago:20230330T170000
DTSTAMP:20260422T082224
CREATED:20230322T175545Z
LAST-MODIFIED:20230322T175545Z
UID:7389-1680184800-1680195600@faculty.utsa.edu
SUMMARY:Canvas Support Hours
DESCRIPTION:Join us at the Academic Innovation Center (MS 240\, in the Student Success District across from the Tomás Rivera Center for Academic Excellence) to work with one of our experts to answer any questions and help prepare your course(s) for the move to Canvas Fall 2023. \nCreating an inclusive learning environment is important to us. To request an accommodation\, please email DigitalAccessibility@utsa.edu one week prior to your scheduled training.
URL:https://faculty.utsa.edu/events/canvas-support-hours-27/
LOCATION:MS 240
CATEGORIES:Academic Innovation
END:VEVENT
BEGIN:VEVENT
DTSTART;TZID=America/Chicago:20230331T100000
DTEND;TZID=America/Chicago:20230331T120000
DTSTAMP:20260422T082224
CREATED:20230322T162112Z
LAST-MODIFIED:20230322T162112Z
UID:7329-1680256800-1680264000@faculty.utsa.edu
SUMMARY:Canvas Support Hours
DESCRIPTION:Join us at the Academic Innovation Center (MS 240\, in the Student Success District across from the Tomás Rivera Center for Academic Excellence) to work with one of our experts to answer any questions and help prepare your course(s) for the move to Canvas Fall 2023. \nCreating an inclusive learning environment is important to us. To request an accommodation\, please email DigitalAccessibility@utsa.edu one week prior to your scheduled training.
URL:https://faculty.utsa.edu/events/canvas-support-hours/
LOCATION:MS 240
CATEGORIES:Academic Innovation
END:VEVENT
BEGIN:VEVENT
DTSTART;TZID=America/Chicago:20230331T140000
DTEND;TZID=America/Chicago:20230331T160000
DTSTAMP:20260422T082224
CREATED:20230322T162221Z
LAST-MODIFIED:20230322T162221Z
UID:7331-1680271200-1680278400@faculty.utsa.edu
SUMMARY:Canvas Support Hours
DESCRIPTION:Join us at the Academic Innovation Center (MS 240\, in the Student Success District across from the Tomás Rivera Center for Academic Excellence) to work with one of our experts to answer any questions and help prepare your course(s) for the move to Canvas Fall 2023. \nCreating an inclusive learning environment is important to us. To request an accommodation\, please email DigitalAccessibility@utsa.edu one week prior to your scheduled training.
URL:https://faculty.utsa.edu/events/canvas-support-hours-2/
LOCATION:MS 240
CATEGORIES:Academic Innovation
END:VEVENT
BEGIN:VEVENT
DTSTART;TZID=America/Chicago:20230403T100000
DTEND;TZID=America/Chicago:20230403T120000
DTSTAMP:20260422T082224
CREATED:20230324T173943Z
LAST-MODIFIED:20230324T173943Z
UID:7573-1680516000-1680523200@faculty.utsa.edu
SUMMARY:Canvas Support Hours
DESCRIPTION:Join us at the Academic Innovation Center (MS 240\, in the Student Success District across from the Tomás Rivera Center for Academic Excellence) to work with one of our experts to answer any questions and help prepare your course(s) for the move to Canvas Fall 2023. \nCreating an inclusive learning environment is important to us. To request an accommodation\, please email DigitalAccessibility@utsa.edu one week prior to your scheduled training.
URL:https://faculty.utsa.edu/events/canvas-support-hours-105/
LOCATION:MS 240
CATEGORIES:Academic Innovation
END:VEVENT
BEGIN:VEVENT
DTSTART;TZID=America/Chicago:20230403T150000
DTEND;TZID=America/Chicago:20230403T170000
DTSTAMP:20260422T082224
CREATED:20230324T174232Z
LAST-MODIFIED:20230324T174232Z
UID:7577-1680534000-1680541200@faculty.utsa.edu
SUMMARY:Canvas Support Hours
DESCRIPTION:Join us at the Academic Innovation Center (MS 240\, in the Student Success District across from the Tomás Rivera Center for Academic Excellence) to work with one of our experts to answer any questions and help prepare your course(s) for the move to Canvas Fall 2023. \nCreating an inclusive learning environment is important to us. To request an accommodation\, please email DigitalAccessibility@utsa.edu one week prior to your scheduled training.
URL:https://faculty.utsa.edu/events/canvas-support-hours-107/
LOCATION:MS 240
CATEGORIES:Academic Innovation
END:VEVENT
BEGIN:VEVENT
DTSTART;TZID=America/Chicago:20230404T090000
DTEND;TZID=America/Chicago:20230404T110000
DTSTAMP:20260422T082224
CREATED:20230324T170057Z
LAST-MODIFIED:20230324T170057Z
UID:7517-1680598800-1680606000@faculty.utsa.edu
SUMMARY:Canvas Support Hours
DESCRIPTION:Join us at the Academic Innovation Center (MS 240\, in the Student Success District across from the Tomás Rivera Center for Academic Excellence) to work with one of our experts to answer any questions and help prepare your course(s) for the move to Canvas Fall 2023. \nCreating an inclusive learning environment is important to us. To request an accommodation\, please email DigitalAccessibility@utsa.edu one week prior to your scheduled training.
URL:https://faculty.utsa.edu/events/canvas-support-hours-70/
LOCATION:MS 240
CATEGORIES:Academic Innovation
END:VEVENT
BEGIN:VEVENT
DTSTART;TZID=America/Chicago:20230404T140000
DTEND;TZID=America/Chicago:20230404T160000
DTSTAMP:20260422T082224
CREATED:20230324T170231Z
LAST-MODIFIED:20230324T170231Z
UID:7519-1680616800-1680624000@faculty.utsa.edu
SUMMARY:Canvas Support Hours
DESCRIPTION:Join us at the Academic Innovation Center (MS 240\, in the Student Success District across from the Tomás Rivera Center for Academic Excellence) to work with one of our experts to answer any questions and help prepare your course(s) for the move to Canvas Fall 2023. \nCreating an inclusive learning environment is important to us. To request an accommodation\, please email DigitalAccessibility@utsa.edu one week prior to your scheduled training.
URL:https://faculty.utsa.edu/events/canvas-support-hours-81/
LOCATION:MS 240
CATEGORIES:Academic Innovation
END:VEVENT
BEGIN:VEVENT
DTSTART;TZID=America/Chicago:20230405T100000
DTEND;TZID=America/Chicago:20230405T120000
DTSTAMP:20260422T082224
CREATED:20230322T190431Z
LAST-MODIFIED:20230322T190431Z
UID:7454-1680688800-1680696000@faculty.utsa.edu
SUMMARY:Canvas Support Hours
DESCRIPTION:Join us at the Academic Innovation Center (MS 240\, in the Student Success District across from the Tomás Rivera Center for Academic Excellence) to work with one of our experts to answer any questions and help prepare your course(s) for the move to Canvas Fall 2023. \nCreating an inclusive learning environment is important to us. To request an accommodation\, please email DigitalAccessibility@utsa.edu one week prior to your scheduled training.
URL:https://faculty.utsa.edu/events/canvas-support-hours-54/
LOCATION:MS 240
CATEGORIES:Academic Innovation
END:VEVENT
BEGIN:VEVENT
DTSTART;TZID=America/Chicago:20230405T150000
DTEND;TZID=America/Chicago:20230405T160000
DTSTAMP:20260422T082224
CREATED:20230222T204256Z
LAST-MODIFIED:20230223T155051Z
UID:7287-1680706800-1680710400@faculty.utsa.edu
SUMMARY:Faculty Coffee Hour
DESCRIPTION:The Faculty Coffee Hour is designed to provide faculty members with the space to discuss current issues they are facing in an inclusive and supportive environment. During these sessions Faculty work together on finding solutions\, connecting to resources and encouraging diverse perspectives and ideas. \nCreating an inclusive learning environment is important to us. To request an accommodation\, please email DigitalAccessibility@utsa.edu one week prior to your scheduled training.
URL:https://faculty.utsa.edu/events/faculty-coffee-hour-13/
LOCATION:MS 240
CATEGORIES:Academic Innovation
END:VEVENT
BEGIN:VEVENT
DTSTART;TZID=America/Chicago:20230405T150000
DTEND;TZID=America/Chicago:20230405T170000
DTSTAMP:20260422T082224
CREATED:20230322T190512Z
LAST-MODIFIED:20230322T190512Z
UID:7456-1680706800-1680714000@faculty.utsa.edu
SUMMARY:Canvas Support Hours
DESCRIPTION:Join us at the Academic Innovation Center (MS 240\, in the Student Success District across from the Tomás Rivera Center for Academic Excellence) to work with one of our experts to answer any questions and help prepare your course(s) for the move to Canvas Fall 2023. \nCreating an inclusive learning environment is important to us. To request an accommodation\, please email DigitalAccessibility@utsa.edu one week prior to your scheduled training.
URL:https://faculty.utsa.edu/events/canvas-support-hours-55/
LOCATION:MS 240
CATEGORIES:Academic Innovation
END:VEVENT
BEGIN:VEVENT
DTSTART;TZID=America/Chicago:20230405T153000
DTEND;TZID=America/Chicago:20230405T170000
DTSTAMP:20260422T082224
CREATED:20230331T164429Z
LAST-MODIFIED:20230331T164429Z
UID:7644-1680708600-1680714000@faculty.utsa.edu
SUMMARY:UTSA Thrive Speaker Series Kickoff Event: What does servingness mean in a Hispanic-Serving Institution?
DESCRIPTION:What does it look like when our students thrive? We’re building a student success ecosystem at UTSA where academic success is only part of the picture. When students thrive\, they are doing well academically\, psychologically\, physically and socially. Join us on this journey to shift the student success mindset at UTSA. \nJoin UTSA Student Success for the Thrive Speaker Series Kickoff Event featuring a keynote address by Vanessa A. Sansone\, Ed.D.\, UTSA assistant professor of higher education and one of the nation’s leading scholars on educational equity and Hispanic-Serving Institutions. \nThis event is open to all faculty and staff (including student employees). \nUTSA Thrive is a grant-funded student success initiative focused on enhancing support and advocacy for underserved populations (first-generation\, economically disadvantaged\, and students of color) by developing a thriving student framework and strengthening the integration of support services across multiple student success units at the university. \nRegister for this eventView more information
URL:https://faculty.utsa.edu/events/utsa-thrive-speaker-series-kickoff-event-what-does-servingness-mean-in-a-hispanic-serving-institution/
LOCATION:Main Building Auditorium (MB 0.104)\, 1 UTSA Circle\, San Antonio\, Texas\, 78249
CATEGORIES:UTSA Academic Affairs
END:VEVENT
BEGIN:VEVENT
DTSTART;TZID=America/Chicago:20230406T090000
DTEND;TZID=America/Chicago:20230406T110000
DTSTAMP:20260422T082224
CREATED:20230322T175623Z
LAST-MODIFIED:20230323T171945Z
UID:7391-1680771600-1680778800@faculty.utsa.edu
SUMMARY:Canvas Support Hours
DESCRIPTION:Join us at the Academic Innovation Center (MS 240\, in the Student Success District across from the Tomás Rivera Center for Academic Excellence) to work with one of our experts to answer any questions and help prepare your course(s) for the move to Canvas Fall 2023. \nCreating an inclusive learning environment is important to us. To request an accommodation\, please email DigitalAccessibility@utsa.edu one week prior to your scheduled training.
URL:https://faculty.utsa.edu/events/canvas-support-hours-28/
LOCATION:MS 240
CATEGORIES:Academic Innovation
END:VEVENT
BEGIN:VEVENT
DTSTART;TZID=America/Chicago:20230406T110000
DTEND;TZID=America/Chicago:20230406T120000
DTSTAMP:20260422T082224
CREATED:20230329T163034Z
LAST-MODIFIED:20230330T212301Z
UID:7636-1680778800-1680782400@faculty.utsa.edu
SUMMARY:Miscalculations of AI
DESCRIPTION:As part of the Generative AI series\, this workshop will explore the power of using ChatGPT within a mathematics course to help students explore the tool while learning how to “”fact check”” and interpret their results.\nBy attending this course\, participants will be able to:\n1. Explore a variety of teaching strategies that can be used to engage students in mathematics using AI miscalculations.\n2. Evaluate the benefits and drawbacks of using AI in mathematics education.\n3. Discuss the ways in which AI can enhance student learning and engagement\, as well as the risks associated with relying too heavily on AI for mathematical calculations. \nCreating an inclusive learning environment is important to us. To request an accommodation\, please email DigitalAccessibility@utsa.edu one week prior to your scheduled training. \nLOG IN AND ENROLL
URL:https://faculty.utsa.edu/events/miscalculations-of-ai/
LOCATION:DEx Lab: AET 0.202 and Zoom
CATEGORIES:Academic Innovation
END:VEVENT
BEGIN:VEVENT
DTSTART;TZID=America/Chicago:20230406T140000
DTEND;TZID=America/Chicago:20230406T153000
DTSTAMP:20260422T082224
CREATED:20230201T194357Z
LAST-MODIFIED:20230201T194357Z
UID:7228-1680789600-1680795000@faculty.utsa.edu
SUMMARY:Faculty Mini-Retreat: Student Persistence and Retention
DESCRIPTION:Join our team to reflect on the students’ achievements and challenges during the semester and explore techniques\, strategies\, and tools to address growth mindset\, self-reliance\, and what it takes to keep students committed and on the path to success. Bring your device and examples of both successes and challenges in your classes. Come ready to share and discuss. \nBy attending this course\, participants will be able to:\n• Discuss current classroom practices to promote learner’s reliance and agency\n• Explore tools\, activities and strategies to create a growth mindset environment\n• (Re)design a plan for one classroom activity \nCreating an inclusive learning environment is important to us. To request an accommodation\, please email DigitalAccessibility@utsa.edu one week prior to your scheduled training. \nLOG IN AND ENROLL
URL:https://faculty.utsa.edu/events/faculty-mini-retreat-student-persistence-and-retention/
LOCATION:MS 240 and Online
CATEGORIES:Academic Innovation
END:VEVENT
BEGIN:VEVENT
DTSTART;TZID=America/Chicago:20230406T140000
DTEND;TZID=America/Chicago:20230406T170000
DTSTAMP:20260422T082224
CREATED:20230322T175704Z
LAST-MODIFIED:20230322T175704Z
UID:7393-1680789600-1680800400@faculty.utsa.edu
SUMMARY:Canvas Support Hours
DESCRIPTION:Join us at the Academic Innovation Center (MS 240\, in the Student Success District across from the Tomás Rivera Center for Academic Excellence) to work with one of our experts to answer any questions and help prepare your course(s) for the move to Canvas Fall 2023. \nCreating an inclusive learning environment is important to us. To request an accommodation\, please email DigitalAccessibility@utsa.edu one week prior to your scheduled training.
URL:https://faculty.utsa.edu/events/canvas-support-hours-29/
LOCATION:MS 240
CATEGORIES:Academic Innovation
END:VEVENT
BEGIN:VEVENT
DTSTART;TZID=America/Chicago:20230407T100000
DTEND;TZID=America/Chicago:20230407T120000
DTSTAMP:20260422T082224
CREATED:20230322T162330Z
LAST-MODIFIED:20230322T162330Z
UID:7333-1680861600-1680868800@faculty.utsa.edu
SUMMARY:Canvas Support Hours
DESCRIPTION:Join us at the Academic Innovation Center (MS 240\, in the Student Success District across from the Tomás Rivera Center for Academic Excellence) to work with one of our experts to answer any questions and help prepare your course(s) for the move to Canvas Fall 2023. \nCreating an inclusive learning environment is important to us. To request an accommodation\, please email DigitalAccessibility@utsa.edu one week prior to your scheduled training.
URL:https://faculty.utsa.edu/events/canvas-support-hours-3/
LOCATION:MS 240
CATEGORIES:Academic Innovation
END:VEVENT
BEGIN:VEVENT
DTSTART;TZID=America/Chicago:20230407T140000
DTEND;TZID=America/Chicago:20230407T160000
DTSTAMP:20260422T082224
CREATED:20230322T162426Z
LAST-MODIFIED:20230322T162426Z
UID:7335-1680876000-1680883200@faculty.utsa.edu
SUMMARY:Canvas Support Hours
DESCRIPTION:Join us at the Academic Innovation Center (MS 240\, in the Student Success District across from the Tomás Rivera Center for Academic Excellence) to work with one of our experts to answer any questions and help prepare your course(s) for the move to Canvas Fall 2023. \nCreating an inclusive learning environment is important to us. To request an accommodation\, please email DigitalAccessibility@utsa.edu one week prior to your scheduled training.
URL:https://faculty.utsa.edu/events/canvas-support-hours-4/
LOCATION:MS 240
CATEGORIES:Academic Innovation
END:VEVENT
BEGIN:VEVENT
DTSTART;VALUE=DATE:20230410
DTEND;VALUE=DATE:20230412
DTSTAMP:20260422T082224
CREATED:20230104T222049Z
LAST-MODIFIED:20230104T222049Z
UID:7140-1681084800-1681257599@faculty.utsa.edu
SUMMARY:CIDD Annual Drug Discovery Symposium
DESCRIPTION:The Center for Innovative Drug Discovery hosted its Annual Drug Discovery Symposium\, featuring presentations by scientists from around the nation. \nRegister for this eventView more information Presented By:\nUTSA and UT Health \nThe Center for Innovative Drug Discovery \nContact: \nstanton.mchardy@utsa.edu or zhoud@uthscsa.edu
URL:https://faculty.utsa.edu/events/cidd-annual-drug-discovery-symposium/
LOCATION:Greehey Children’s Cancer Research Institute – UT Health San Antonio\, 8403 Floyd Curl Drive\, San Antonio\, 78229\, United States
END:VEVENT
BEGIN:VEVENT
DTSTART;TZID=America/Chicago:20230410T100000
DTEND;TZID=America/Chicago:20230410T120000
DTSTAMP:20260422T082224
CREATED:20230324T174337Z
LAST-MODIFIED:20230324T174344Z
UID:7579-1681120800-1681128000@faculty.utsa.edu
SUMMARY:Canvas Support Hours
DESCRIPTION:Join us at the Academic Innovation Center (MS 240\, in the Student Success District across from the Tomás Rivera Center for Academic Excellence) to work with one of our experts to answer any questions and help prepare your course(s) for the move to Canvas Fall 2023. \nCreating an inclusive learning environment is important to us. To request an accommodation\, please email DigitalAccessibility@utsa.edu one week prior to your scheduled training.
URL:https://faculty.utsa.edu/events/7579/
LOCATION:MS 240
CATEGORIES:Academic Innovation
END:VEVENT
BEGIN:VEVENT
DTSTART;TZID=America/Chicago:20230410T150000
DTEND;TZID=America/Chicago:20230410T170000
DTSTAMP:20260422T082224
CREATED:20230324T174434Z
LAST-MODIFIED:20230324T174434Z
UID:7582-1681138800-1681146000@faculty.utsa.edu
SUMMARY:Canvas Support Hours
DESCRIPTION:Join us at the Academic Innovation Center (MS 240\, in the Student Success District across from the Tomás Rivera Center for Academic Excellence) to work with one of our experts to answer any questions and help prepare your course(s) for the move to Canvas Fall 2023. \nCreating an inclusive learning environment is important to us. To request an accommodation\, please email DigitalAccessibility@utsa.edu one week prior to your scheduled training.
URL:https://faculty.utsa.edu/events/canvas-support-hours-108/
LOCATION:MS 240
CATEGORIES:Academic Innovation
END:VEVENT
BEGIN:VEVENT
DTSTART;TZID=America/Chicago:20230411T080000
DTEND;TZID=America/Chicago:20230414T170000
DTSTAMP:20260422T082224
CREATED:20230104T224211Z
LAST-MODIFIED:20230104T224211Z
UID:7149-1681200000-1681491600@faculty.utsa.edu
SUMMARY:2023 Neuro Inspired Computational Elements (NICE) Conference
DESCRIPTION:The 2023 Neuro-Inspired Computing Elements (NICE) Conference is the 10th annual meeting of researchers in the neural computing field. Like previous editions\, NICE 2023 will focus on the interplay between neural theory\, neural algorithms\, neuromorphic architectures and hardware\, and applications for neural computing technology. \nNICE aims to involve diverse participation from all over the world and bring together research communities with universities\, government\, and industry. \nRegister for this eventView more information
URL:https://faculty.utsa.edu/events/2023-neuro-inspired-computational-elements-nice-conference/
LOCATION:H-E-B Student Union\, One UTSA Circle\, San Antonio\, TX\, 78249\, United States
END:VEVENT
BEGIN:VEVENT
DTSTART;TZID=America/Chicago:20230411T090000
DTEND;TZID=America/Chicago:20230411T110000
DTSTAMP:20260422T082224
CREATED:20230324T170503Z
LAST-MODIFIED:20230324T170503Z
UID:7521-1681203600-1681210800@faculty.utsa.edu
SUMMARY:Canvas Support Hours
DESCRIPTION:Join us at the Academic Innovation Center (MS 240\, in the Student Success District across from the Tomás Rivera Center for Academic Excellence) to work with one of our experts to answer any questions and help prepare your course(s) for the move to Canvas Fall 2023. \nCreating an inclusive learning environment is important to us. To request an accommodation\, please email DigitalAccessibility@utsa.edu one week prior to your scheduled training.
URL:https://faculty.utsa.edu/events/canvas-support-hours-82/
LOCATION:MS 240
CATEGORIES:Academic Innovation
END:VEVENT
END:VCALENDAR