BEGIN:VCALENDAR
VERSION:2.0
PRODID:-//Faculty Center - ECPv6.6.4.2//NONSGML v1.0//EN
CALSCALE:GREGORIAN
METHOD:PUBLISH
X-WR-CALNAME:Faculty Center
X-ORIGINAL-URL:https://faculty.utsa.edu
X-WR-CALDESC:Events for Faculty Center
REFRESH-INTERVAL;VALUE=DURATION:PT1H
X-Robots-Tag:noindex
X-PUBLISHED-TTL:PT1H
BEGIN:VTIMEZONE
TZID:America/Chicago
BEGIN:DAYLIGHT
TZOFFSETFROM:-0600
TZOFFSETTO:-0500
TZNAME:CDT
DTSTART:20260308T080000
END:DAYLIGHT
BEGIN:STANDARD
TZOFFSETFROM:-0500
TZOFFSETTO:-0600
TZNAME:CST
DTSTART:20261101T070000
END:STANDARD
END:VTIMEZONE
BEGIN:VEVENT
DTSTART;TZID=America/Chicago:20260609T100000
DTEND;TZID=America/Chicago:20260609T110000
DTSTAMP:20260421T211015
CREATED:20260415T143414Z
LAST-MODIFIED:20260417T150101Z
UID:12353-1780999200-1781002800@faculty.utsa.edu
SUMMARY:CourseArc Level 1: Building Your First Lesson
DESCRIPTION:This introductory session explores CourseArc\, UT San Antonio’s new web based content authoring tool for creating interactive and accessible course materials. Participants will learn how to navigate the platform\, use core features\, and build a basic lesson. By the end of the session\, you will understand how CourseArc can support your course design and begin creating your own content with confidence. \n***This session includes hands on activities. Please submit a CourseArc Access Request Form in advance.*** \nCreating an effective learning environment for all is important to us. To request an accommodation\, please email DigitalAccessibility@utsa.edu one week prior to your scheduled training. \nLog In and Enroll
URL:https://faculty.utsa.edu/events/coursearc-level-1-building-your-first-lesson-4/
LOCATION:MS 240 and Online
CATEGORIES:Academic Innovation
END:VEVENT
BEGIN:VEVENT
DTSTART;TZID=America/Chicago:20260618T140000
DTEND;TZID=America/Chicago:20260618T150000
DTSTAMP:20260421T211015
CREATED:20260415T134403Z
LAST-MODIFIED:20260417T143054Z
UID:12345-1781791200-1781794800@faculty.utsa.edu
SUMMARY:CourseArc Level 2: Designing Engaging Course Content
DESCRIPTION:This session builds on foundational skills to help you design more interactive and accessible learning experiences in CourseArc. Participants will explore strategies for increasing student engagement\, apply accessibility best practices\, and enhance lessons with purposeful interactions. By the end of the session\, you will be able to create more effective and engaging course content using CourseArc. \n***This session includes hands on activities. Please submit a CourseArc Access Request Form in advance.*** \nCreating an effective learning environment for all is important to us. To request an accommodation\, please email DigitalAccessibility@utsa.edu one week prior to your scheduled training. \nLog In and Enroll
URL:https://faculty.utsa.edu/events/coursearc-level-2-designing-engaging-course-content-2/
LOCATION:MS 240 and Online
CATEGORIES:Academic Innovation
END:VEVENT
BEGIN:VEVENT
DTSTART;TZID=America/Chicago:20260630T100000
DTEND;TZID=America/Chicago:20260630T110000
DTSTAMP:20260421T211015
CREATED:20250822T155916Z
LAST-MODIFIED:20260322T015332Z
UID:11625-1782813600-1782817200@faculty.utsa.edu
SUMMARY:Generative AI Peer Learning Network
DESCRIPTION:Are you curious about how generative AI is transforming higher education? Do you want to be at the forefront of these changes at UT San Antonio? \nJoin the Generative AI Peer Learning Network\, a supportive community dedicated to exploring how these tools can transform teaching and learning. Since its launch in January 2023\, the network has become a central hub for faculty and staff from across campus to explore\, experiment\, and collaborate. \nAs a member\, you’ll have the opportunity to: \n\nDiscover new teaching strategies that responsibly and effectively integrate AI.\nStay ahead of the curve on the latest trends and applications.\nContribute to a growing ecosystem that is shaping the future of learning at our university.\n\nThis is more than just a network\, it’s a space for you to amplify your voice and help guide UT San Antonio’s thoughtful and innovative approach to generative AI. We invite you to join us every last Tuesday of the month and help shape the future. \nLearn more about the Generative AI Peer Learning Network. \nCreating an effective learning environment for all is important to us. To request an accommodation\, please email DigitalAccessibility@utsa.edu one week prior to your scheduled training. \nEmail us to join
URL:https://faculty.utsa.edu/events/generative-ai-peer-learning-network-10/
LOCATION:MS 240 and Online
CATEGORIES:Academic Innovation
END:VEVENT
BEGIN:VEVENT
DTSTART;TZID=America/Chicago:20260707T150000
DTEND;TZID=America/Chicago:20260707T160000
DTSTAMP:20260421T211015
CREATED:20260415T144525Z
LAST-MODIFIED:20260417T150415Z
UID:12354-1783436400-1783440000@faculty.utsa.edu
SUMMARY:CourseArc Level 1: Building Your First Lesson
DESCRIPTION:This introductory session explores CourseArc\, UT San Antonio’s new web based content authoring tool for creating interactive and accessible course materials. Participants will learn how to navigate the platform\, use core features\, and build a basic lesson. By the end of the session\, you will understand how CourseArc can support your course design and begin creating your own content with confidence. \n***This session includes hands on activities. Please submit a CourseArc Access Request Form in advance.*** \nCreating an effective learning environment for all is important to us. To request an accommodation\, please email DigitalAccessibility@utsa.edu one week prior to your scheduled training. \nLog In and Enroll
URL:https://faculty.utsa.edu/events/coursearc-level-1-building-your-first-lesson-5/
LOCATION:MS 240 and Online
CATEGORIES:Academic Innovation
END:VEVENT
BEGIN:VEVENT
DTSTART;TZID=America/Chicago:20260716T110000
DTEND;TZID=America/Chicago:20260716T120000
DTSTAMP:20260421T211015
CREATED:20260415T134832Z
LAST-MODIFIED:20260417T143246Z
UID:12346-1784199600-1784203200@faculty.utsa.edu
SUMMARY:CourseArc Level 2: Designing Engaging Course Content
DESCRIPTION:This session builds on foundational skills to help you design more interactive and accessible learning experiences in CourseArc. Participants will explore strategies for increasing student engagement\, apply accessibility best practices\, and enhance lessons with purposeful interactions. By the end of the session\, you will be able to create more effective and engaging course content using CourseArc. \n***This session includes hands on activities. Please submit a CourseArc Access Request Form in advance.*** \nCreating an effective learning environment for all is important to us. To request an accommodation\, please email DigitalAccessibility@utsa.edu one week prior to your scheduled training. \nLog In and Enroll
URL:https://faculty.utsa.edu/events/coursearc-level-2-designing-engaging-course-content-3/
LOCATION:MS 240 and Online
CATEGORIES:Academic Innovation
END:VEVENT
BEGIN:VEVENT
DTSTART;TZID=America/Chicago:20260728T100000
DTEND;TZID=America/Chicago:20260728T110000
DTSTAMP:20260421T211015
CREATED:20250822T162602Z
LAST-MODIFIED:20260322T014438Z
UID:11627-1785232800-1785236400@faculty.utsa.edu
SUMMARY:Generative AI Peer Learning Network
DESCRIPTION:Are you curious about how generative AI is transforming higher education? Do you want to be at the forefront of these changes at UT San Antonio? \nJoin the Generative AI Peer Learning Network\, a supportive community dedicated to exploring how these tools can transform teaching and learning. Since its launch in January 2023\, the network has become a central hub for faculty and staff from across campus to explore\, experiment\, and collaborate. \nAs a member\, you’ll have the opportunity to: \n\nDiscover new teaching strategies that responsibly and effectively integrate AI.\nStay ahead of the curve on the latest trends and applications.\nContribute to a growing ecosystem that is shaping the future of learning at our university.\n\nThis is more than just a network\, it’s a space for you to amplify your voice and help guide UT San Antonio’s thoughtful and innovative approach to generative AI. We invite you to join us every last Tuesday of the month and help shape the future. \nLearn more about the Generative AI Peer Learning Network. \nCreating an effective learning environment for all is important to us. To request an accommodation\, please email DigitalAccessibility@utsa.edu one week prior to your scheduled training. \nEmail us to join
URL:https://faculty.utsa.edu/events/generative-ai-peer-learning-network-11/
LOCATION:MS 240 and Online
CATEGORIES:Academic Innovation
END:VEVENT
BEGIN:VEVENT
DTSTART;TZID=America/Chicago:20260813T140000
DTEND;TZID=America/Chicago:20260813T150000
DTSTAMP:20260421T211015
CREATED:20260417T152728Z
LAST-MODIFIED:20260417T152728Z
UID:12362-1786629600-1786633200@faculty.utsa.edu
SUMMARY:What’s New in Padlet: Exploring Arcade\, Beta Features\, and Padlet TA
DESCRIPTION:Join us to discover the latest Padlet updates! This workshop will explore how these new tools can enhance engagement\, streamline instructional tasks\, and support interactive learning experiences. Through demonstrations and practical examples\, you will see how Padlet’s newest features can be applied across a variety of teaching and learning contexts. The session is designed to help you confidently integrate these updates into your courses with purpose and impact. \nCreating an effective learning environment for all is important to us. To request an accommodation\, please email DigitalAccessibility@utsa.edu one week prior to your scheduled training. \nLog In and Enroll
URL:https://faculty.utsa.edu/events/whats-new-in-padlet-exploring-arcade-beta-features-and-padlet-ta/
LOCATION:MS 240 and Online
CATEGORIES:Academic Innovation
END:VEVENT
END:VCALENDAR