BEGIN:VCALENDAR
VERSION:2.0
PRODID:-//Faculty Center - ECPv6.6.4.2//NONSGML v1.0//EN
CALSCALE:GREGORIAN
METHOD:PUBLISH
X-WR-CALNAME:Faculty Center
X-ORIGINAL-URL:https://faculty.utsa.edu
X-WR-CALDESC:Events for Faculty Center
REFRESH-INTERVAL;VALUE=DURATION:PT1H
X-Robots-Tag:noindex
X-PUBLISHED-TTL:PT1H
BEGIN:VTIMEZONE
TZID:America/Chicago
BEGIN:DAYLIGHT
TZOFFSETFROM:-0600
TZOFFSETTO:-0500
TZNAME:CDT
DTSTART:20260308T080000
END:DAYLIGHT
BEGIN:STANDARD
TZOFFSETFROM:-0500
TZOFFSETTO:-0600
TZNAME:CST
DTSTART:20261101T070000
END:STANDARD
END:VTIMEZONE
BEGIN:VEVENT
DTSTART;TZID=America/Chicago:20260813T140000
DTEND;TZID=America/Chicago:20260813T150000
DTSTAMP:20260423T050953
CREATED:20260417T152728Z
LAST-MODIFIED:20260417T152728Z
UID:12362-1786629600-1786633200@faculty.utsa.edu
SUMMARY:What’s New in Padlet: Exploring Arcade\, Beta Features\, and Padlet TA
DESCRIPTION:Join us to discover the latest Padlet updates! This workshop will explore how these new tools can enhance engagement\, streamline instructional tasks\, and support interactive learning experiences. Through demonstrations and practical examples\, you will see how Padlet’s newest features can be applied across a variety of teaching and learning contexts. The session is designed to help you confidently integrate these updates into your courses with purpose and impact. \nCreating an effective learning environment for all is important to us. To request an accommodation\, please email DigitalAccessibility@utsa.edu one week prior to your scheduled training. \nLog In and Enroll
URL:https://faculty.utsa.edu/events/whats-new-in-padlet-exploring-arcade-beta-features-and-padlet-ta/
LOCATION:MS 240 and Online
CATEGORIES:Academic Innovation
END:VEVENT
END:VCALENDAR