BEGIN:VCALENDAR
VERSION:2.0
PRODID:-//Faculty Center - ECPv6.6.4.2//NONSGML v1.0//EN
CALSCALE:GREGORIAN
METHOD:PUBLISH
X-WR-CALNAME:Faculty Center
X-ORIGINAL-URL:https://faculty.utsa.edu
X-WR-CALDESC:Events for Faculty Center
REFRESH-INTERVAL;VALUE=DURATION:PT1H
X-Robots-Tag:noindex
X-PUBLISHED-TTL:PT1H
BEGIN:VTIMEZONE
TZID:America/Chicago
BEGIN:DAYLIGHT
TZOFFSETFROM:-0600
TZOFFSETTO:-0500
TZNAME:CDT
DTSTART:20260308T080000
END:DAYLIGHT
BEGIN:STANDARD
TZOFFSETFROM:-0500
TZOFFSETTO:-0600
TZNAME:CST
DTSTART:20261101T070000
END:STANDARD
END:VTIMEZONE
BEGIN:VEVENT
DTSTART;TZID=America/Chicago:20260302T150000
DTEND;TZID=America/Chicago:20260302T163000
DTSTAMP:20260423T075730
CREATED:20260115T200903Z
LAST-MODIFIED:20260115T200903Z
UID:12230-1772463600-1772469000@faculty.utsa.edu
SUMMARY:STEPS RIG Meeting
DESCRIPTION:Monthly meetings of the UT San Antonio STEPS RIG.\nIf you would like information on joining existing RIGs\, please contact Dr. Siobhan Fleming\, Assistant Vice President\, Strategic Research Initiatives\, Siobhan.Fleming@utsa.edu in the office of Research and Innovation. \nView more information
URL:https://faculty.utsa.edu/events/steps-rig-meeting-13/
LOCATION:Faculty Center Small Conference Room JPL 4.04.12D & Virtual: TEAMS
CATEGORIES:Research,UTSA Research
ORGANIZER;CN="Faculty Research Development":MAILTO:siobhan.fleming@utsa.edu
END:VEVENT
BEGIN:VEVENT
DTSTART;TZID=America/Chicago:20260306T120000
DTEND;TZID=America/Chicago:20260306T130000
DTSTAMP:20260423T075730
CREATED:20260129T214105Z
LAST-MODIFIED:20260216T160142Z
UID:12278-1772798400-1772802000@faculty.utsa.edu
SUMMARY:Data Science RIG Meeting
DESCRIPTION:Monthly meetings of the UT San Antonio Data Science RIG.\nIf you would like information on joining existing RIGs\, please contact Dr. Siobhan Fleming\, Assistant Vice President\, Strategic Research Initiatives\, Siobhan.Fleming@utsa.edu in the office of Research and Innovation. View more information
URL:https://faculty.utsa.edu/events/data-science-rig-meeting-12/
LOCATION:San Pedro 1 | 325 | Kilo 3 & Virtual: TEAMS
CATEGORIES:Research,UTSA Research
ORGANIZER;CN="Faculty Research Development":MAILTO:siobhan.fleming@utsa.edu
END:VEVENT
BEGIN:VEVENT
DTSTART;TZID=America/Chicago:20260319T140000
DTEND;TZID=America/Chicago:20260319T153000
DTSTAMP:20260423T075730
CREATED:20250912T173829Z
LAST-MODIFIED:20260304T151617Z
UID:11834-1773928800-1773934200@faculty.utsa.edu
SUMMARY:Building Effective Research Centers\, Institutes and Clusters
DESCRIPTION:A workshop that explores the process of establishing effective Research Centers and Clusters\, drawing out the maximum benefits and avoiding the common pitfalls. \nPresented By: Richard H. Nader\, PhD\, and Warren Burggren\, PhD\, Global Proposal Solutions\nRichard H. Nader\, Ph.D.\, Global Proposal Solutions \nWarren Burggren\, Ph.D.\, Global Proposal Solutions Flyer-Building Effective C&Is and Clusters \nView the Event FlyerRegister for this eventView more information
URL:https://faculty.utsa.edu/events/building-effective-research-centers-institutes-and-clusters/
LOCATION:Virtual: Zoom
CATEGORIES:Research,UTSA Office of Research Support
ORGANIZER;CN="Faculty Research Development":MAILTO:siobhan.fleming@utsa.edu
END:VEVENT
BEGIN:VEVENT
DTSTART;TZID=America/Chicago:20260319T153000
DTEND;TZID=America/Chicago:20260319T163000
DTSTAMP:20260423T075730
CREATED:20251208T170058Z
LAST-MODIFIED:20251208T170058Z
UID:12173-1773934200-1773937800@faculty.utsa.edu
SUMMARY:Community Solutions RIG Meeting
DESCRIPTION:Monthly meeting of the UT San Antonio Community Solutions RIG\nIf you would like information on joining existing RIGs\, please contact Dr. Siobhan Fleming\, Assistant Vice President\, Strategic Research Initiatives\, Siobhan.Fleming@utsa.edu in the office of Research and Innovation. \nView more information
URL:https://faculty.utsa.edu/events/community-solutions-rig-meeting-18/
LOCATION:Virtual: TEAMS
CATEGORIES:Research,UTSA Research
ORGANIZER;CN="Faculty Research Development":MAILTO:siobhan.fleming@utsa.edu
END:VEVENT
BEGIN:VEVENT
DTSTART;TZID=America/Chicago:20260330T150000
DTEND;TZID=America/Chicago:20260330T163000
DTSTAMP:20260423T075730
CREATED:20260115T201124Z
LAST-MODIFIED:20260204T162329Z
UID:12231-1774882800-1774888200@faculty.utsa.edu
SUMMARY:STEPS RIG Meeting
DESCRIPTION:Monthly meetings of the UT San Antonio STEPS RIG.\nIf you would like information on joining existing RIGs\, please contact Dr. Siobhan Fleming\, Assistant Vice President\, Strategic Research Initiatives\, Siobhan.Fleming@utsa.edu in the office of Research and Innovation. \nView more information
URL:https://faculty.utsa.edu/events/steps-rig-meeting-14/
LOCATION:John Peace Library | Assembly Room | 4.04.22
CATEGORIES:Research,UTSA Research
ORGANIZER;CN="Faculty Research Development":MAILTO:siobhan.fleming@utsa.edu
END:VEVENT
END:VCALENDAR